BEGIN:VCALENDAR
VERSION:2.0
PRODID:-//Big Cypress Lodge - ECPv6.15.18//NONSGML v1.0//EN
CALSCALE:GREGORIAN
METHOD:PUBLISH
X-ORIGINAL-URL:https://big-cypress.com
X-WR-CALDESC:Events for Big Cypress Lodge
REFRESH-INTERVAL;VALUE=DURATION:PT1H
X-Robots-Tag:noindex
X-PUBLISHED-TTL:PT1H
BEGIN:VTIMEZONE
TZID:America/Chicago
BEGIN:DAYLIGHT
TZOFFSETFROM:-0600
TZOFFSETTO:-0500
TZNAME:CDT
DTSTART:20240310T080000
END:DAYLIGHT
BEGIN:STANDARD
TZOFFSETFROM:-0500
TZOFFSETTO:-0600
TZNAME:CST
DTSTART:20241103T070000
END:STANDARD
BEGIN:DAYLIGHT
TZOFFSETFROM:-0600
TZOFFSETTO:-0500
TZNAME:CDT
DTSTART:20250309T080000
END:DAYLIGHT
BEGIN:STANDARD
TZOFFSETFROM:-0500
TZOFFSETTO:-0600
TZNAME:CST
DTSTART:20251102T070000
END:STANDARD
BEGIN:DAYLIGHT
TZOFFSETFROM:-0600
TZOFFSETTO:-0500
TZNAME:CDT
DTSTART:20260308T080000
END:DAYLIGHT
BEGIN:STANDARD
TZOFFSETFROM:-0500
TZOFFSETTO:-0600
TZNAME:CST
DTSTART:20261101T070000
END:STANDARD
END:VTIMEZONE
BEGIN:VEVENT
DTSTART;TZID=America/Chicago:20250701T140000
DTEND;TZID=America/Chicago:20250701T143000
DTSTAMP:20260420T072002
CREATED:20250109T195741Z
LAST-MODIFIED:20251024T182219Z
UID:10002977-1751378400-1751380200@big-cypress.com
SUMMARY:Fish Feeding
DESCRIPTION:Centered inside Bass Pro Shops\, the aquarium houses several species of native Tennessee fish. Stop by daily at 2:00 PM to enjoy a live fish feedings by our Bass Pro Shops staff.
URL:https://big-cypress.com/event/fish-feeding/2025-07-01/
LOCATION:Bass Pro Shops\, 1 Bass Pro Dr\, Memphis\, TN\, 38105\, United States
CATEGORIES:Bass Pro Shops Pyramid
ATTACH;FMTTYPE=image/png:https://big-cypress.com/wp-content/uploads/2025/01/Fish-Feeding-Aquarium-2025.png
END:VEVENT
BEGIN:VEVENT
DTSTART;TZID=America/Chicago:20250702T140000
DTEND;TZID=America/Chicago:20250702T143000
DTSTAMP:20260420T072002
CREATED:20250109T195741Z
LAST-MODIFIED:20251024T182219Z
UID:10002978-1751464800-1751466600@big-cypress.com
SUMMARY:Fish Feeding
DESCRIPTION:Centered inside Bass Pro Shops\, the aquarium houses several species of native Tennessee fish. Stop by daily at 2:00 PM to enjoy a live fish feedings by our Bass Pro Shops staff.
URL:https://big-cypress.com/event/fish-feeding/2025-07-02/
LOCATION:Bass Pro Shops\, 1 Bass Pro Dr\, Memphis\, TN\, 38105\, United States
CATEGORIES:Bass Pro Shops Pyramid
ATTACH;FMTTYPE=image/png:https://big-cypress.com/wp-content/uploads/2025/01/Fish-Feeding-Aquarium-2025.png
END:VEVENT
BEGIN:VEVENT
DTSTART;TZID=America/Chicago:20250703T140000
DTEND;TZID=America/Chicago:20250703T143000
DTSTAMP:20260420T072002
CREATED:20250109T195741Z
LAST-MODIFIED:20251024T182219Z
UID:10002979-1751551200-1751553000@big-cypress.com
SUMMARY:Fish Feeding
DESCRIPTION:Centered inside Bass Pro Shops\, the aquarium houses several species of native Tennessee fish. Stop by daily at 2:00 PM to enjoy a live fish feedings by our Bass Pro Shops staff.
URL:https://big-cypress.com/event/fish-feeding/2025-07-03/
LOCATION:Bass Pro Shops\, 1 Bass Pro Dr\, Memphis\, TN\, 38105\, United States
CATEGORIES:Bass Pro Shops Pyramid
ATTACH;FMTTYPE=image/png:https://big-cypress.com/wp-content/uploads/2025/01/Fish-Feeding-Aquarium-2025.png
END:VEVENT
BEGIN:VEVENT
DTSTART;TZID=America/Chicago:20250704T140000
DTEND;TZID=America/Chicago:20250704T143000
DTSTAMP:20260420T072002
CREATED:20250109T195741Z
LAST-MODIFIED:20251024T182219Z
UID:10002980-1751637600-1751639400@big-cypress.com
SUMMARY:Fish Feeding
DESCRIPTION:Centered inside Bass Pro Shops\, the aquarium houses several species of native Tennessee fish. Stop by daily at 2:00 PM to enjoy a live fish feedings by our Bass Pro Shops staff.
URL:https://big-cypress.com/event/fish-feeding/2025-07-04/
LOCATION:Bass Pro Shops\, 1 Bass Pro Dr\, Memphis\, TN\, 38105\, United States
CATEGORIES:Bass Pro Shops Pyramid
ATTACH;FMTTYPE=image/png:https://big-cypress.com/wp-content/uploads/2025/01/Fish-Feeding-Aquarium-2025.png
END:VEVENT
BEGIN:VEVENT
DTSTART;TZID=America/Chicago:20250705T140000
DTEND;TZID=America/Chicago:20250705T143000
DTSTAMP:20260420T072002
CREATED:20250109T195741Z
LAST-MODIFIED:20251024T182219Z
UID:10002981-1751724000-1751725800@big-cypress.com
SUMMARY:Fish Feeding
DESCRIPTION:Centered inside Bass Pro Shops\, the aquarium houses several species of native Tennessee fish. Stop by daily at 2:00 PM to enjoy a live fish feedings by our Bass Pro Shops staff.
URL:https://big-cypress.com/event/fish-feeding/2025-07-05/
LOCATION:Bass Pro Shops\, 1 Bass Pro Dr\, Memphis\, TN\, 38105\, United States
CATEGORIES:Bass Pro Shops Pyramid
ATTACH;FMTTYPE=image/png:https://big-cypress.com/wp-content/uploads/2025/01/Fish-Feeding-Aquarium-2025.png
END:VEVENT
BEGIN:VEVENT
DTSTART;TZID=America/Chicago:20250706T140000
DTEND;TZID=America/Chicago:20250706T143000
DTSTAMP:20260420T072002
CREATED:20250109T195741Z
LAST-MODIFIED:20251024T182219Z
UID:10002982-1751810400-1751812200@big-cypress.com
SUMMARY:Fish Feeding
DESCRIPTION:Centered inside Bass Pro Shops\, the aquarium houses several species of native Tennessee fish. Stop by daily at 2:00 PM to enjoy a live fish feedings by our Bass Pro Shops staff.
URL:https://big-cypress.com/event/fish-feeding/2025-07-06/
LOCATION:Bass Pro Shops\, 1 Bass Pro Dr\, Memphis\, TN\, 38105\, United States
CATEGORIES:Bass Pro Shops Pyramid
ATTACH;FMTTYPE=image/png:https://big-cypress.com/wp-content/uploads/2025/01/Fish-Feeding-Aquarium-2025.png
END:VEVENT
BEGIN:VEVENT
DTSTART;TZID=America/Chicago:20250707T140000
DTEND;TZID=America/Chicago:20250707T143000
DTSTAMP:20260420T072002
CREATED:20250109T195741Z
LAST-MODIFIED:20251024T182219Z
UID:10002983-1751896800-1751898600@big-cypress.com
SUMMARY:Fish Feeding
DESCRIPTION:Centered inside Bass Pro Shops\, the aquarium houses several species of native Tennessee fish. Stop by daily at 2:00 PM to enjoy a live fish feedings by our Bass Pro Shops staff.
URL:https://big-cypress.com/event/fish-feeding/2025-07-07/
LOCATION:Bass Pro Shops\, 1 Bass Pro Dr\, Memphis\, TN\, 38105\, United States
CATEGORIES:Bass Pro Shops Pyramid
ATTACH;FMTTYPE=image/png:https://big-cypress.com/wp-content/uploads/2025/01/Fish-Feeding-Aquarium-2025.png
END:VEVENT
BEGIN:VEVENT
DTSTART;TZID=America/Chicago:20250708T140000
DTEND;TZID=America/Chicago:20250708T143000
DTSTAMP:20260420T072002
CREATED:20250109T195741Z
LAST-MODIFIED:20251024T182219Z
UID:10002984-1751983200-1751985000@big-cypress.com
SUMMARY:Fish Feeding
DESCRIPTION:Centered inside Bass Pro Shops\, the aquarium houses several species of native Tennessee fish. Stop by daily at 2:00 PM to enjoy a live fish feedings by our Bass Pro Shops staff.
URL:https://big-cypress.com/event/fish-feeding/2025-07-08/
LOCATION:Bass Pro Shops\, 1 Bass Pro Dr\, Memphis\, TN\, 38105\, United States
CATEGORIES:Bass Pro Shops Pyramid
ATTACH;FMTTYPE=image/png:https://big-cypress.com/wp-content/uploads/2025/01/Fish-Feeding-Aquarium-2025.png
END:VEVENT
BEGIN:VEVENT
DTSTART;TZID=America/Chicago:20250709T140000
DTEND;TZID=America/Chicago:20250709T143000
DTSTAMP:20260420T072002
CREATED:20250109T195741Z
LAST-MODIFIED:20251024T182219Z
UID:10002985-1752069600-1752071400@big-cypress.com
SUMMARY:Fish Feeding
DESCRIPTION:Centered inside Bass Pro Shops\, the aquarium houses several species of native Tennessee fish. Stop by daily at 2:00 PM to enjoy a live fish feedings by our Bass Pro Shops staff.
URL:https://big-cypress.com/event/fish-feeding/2025-07-09/
LOCATION:Bass Pro Shops\, 1 Bass Pro Dr\, Memphis\, TN\, 38105\, United States
CATEGORIES:Bass Pro Shops Pyramid
ATTACH;FMTTYPE=image/png:https://big-cypress.com/wp-content/uploads/2025/01/Fish-Feeding-Aquarium-2025.png
END:VEVENT
BEGIN:VEVENT
DTSTART;TZID=America/Chicago:20250710T140000
DTEND;TZID=America/Chicago:20250710T143000
DTSTAMP:20260420T072002
CREATED:20250109T195741Z
LAST-MODIFIED:20251024T182219Z
UID:10002986-1752156000-1752157800@big-cypress.com
SUMMARY:Fish Feeding
DESCRIPTION:Centered inside Bass Pro Shops\, the aquarium houses several species of native Tennessee fish. Stop by daily at 2:00 PM to enjoy a live fish feedings by our Bass Pro Shops staff.
URL:https://big-cypress.com/event/fish-feeding/2025-07-10/
LOCATION:Bass Pro Shops\, 1 Bass Pro Dr\, Memphis\, TN\, 38105\, United States
CATEGORIES:Bass Pro Shops Pyramid
ATTACH;FMTTYPE=image/png:https://big-cypress.com/wp-content/uploads/2025/01/Fish-Feeding-Aquarium-2025.png
END:VEVENT
BEGIN:VEVENT
DTSTART;TZID=America/Chicago:20250711T140000
DTEND;TZID=America/Chicago:20250711T143000
DTSTAMP:20260420T072002
CREATED:20250109T195741Z
LAST-MODIFIED:20251024T182219Z
UID:10002987-1752242400-1752244200@big-cypress.com
SUMMARY:Fish Feeding
DESCRIPTION:Centered inside Bass Pro Shops\, the aquarium houses several species of native Tennessee fish. Stop by daily at 2:00 PM to enjoy a live fish feedings by our Bass Pro Shops staff.
URL:https://big-cypress.com/event/fish-feeding/2025-07-11/
LOCATION:Bass Pro Shops\, 1 Bass Pro Dr\, Memphis\, TN\, 38105\, United States
CATEGORIES:Bass Pro Shops Pyramid
ATTACH;FMTTYPE=image/png:https://big-cypress.com/wp-content/uploads/2025/01/Fish-Feeding-Aquarium-2025.png
END:VEVENT
BEGIN:VEVENT
DTSTART;TZID=America/Chicago:20250712T140000
DTEND;TZID=America/Chicago:20250712T143000
DTSTAMP:20260420T072002
CREATED:20250109T195741Z
LAST-MODIFIED:20251024T182219Z
UID:10002988-1752328800-1752330600@big-cypress.com
SUMMARY:Fish Feeding
DESCRIPTION:Centered inside Bass Pro Shops\, the aquarium houses several species of native Tennessee fish. Stop by daily at 2:00 PM to enjoy a live fish feedings by our Bass Pro Shops staff.
URL:https://big-cypress.com/event/fish-feeding/2025-07-12/
LOCATION:Bass Pro Shops\, 1 Bass Pro Dr\, Memphis\, TN\, 38105\, United States
CATEGORIES:Bass Pro Shops Pyramid
ATTACH;FMTTYPE=image/png:https://big-cypress.com/wp-content/uploads/2025/01/Fish-Feeding-Aquarium-2025.png
END:VEVENT
BEGIN:VEVENT
DTSTART;TZID=America/Chicago:20250713T140000
DTEND;TZID=America/Chicago:20250713T143000
DTSTAMP:20260420T072002
CREATED:20250109T195741Z
LAST-MODIFIED:20251024T182219Z
UID:10002989-1752415200-1752417000@big-cypress.com
SUMMARY:Fish Feeding
DESCRIPTION:Centered inside Bass Pro Shops\, the aquarium houses several species of native Tennessee fish. Stop by daily at 2:00 PM to enjoy a live fish feedings by our Bass Pro Shops staff.
URL:https://big-cypress.com/event/fish-feeding/2025-07-13/
LOCATION:Bass Pro Shops\, 1 Bass Pro Dr\, Memphis\, TN\, 38105\, United States
CATEGORIES:Bass Pro Shops Pyramid
ATTACH;FMTTYPE=image/png:https://big-cypress.com/wp-content/uploads/2025/01/Fish-Feeding-Aquarium-2025.png
END:VEVENT
BEGIN:VEVENT
DTSTART;TZID=America/Chicago:20250714T140000
DTEND;TZID=America/Chicago:20250714T143000
DTSTAMP:20260420T072002
CREATED:20250109T195741Z
LAST-MODIFIED:20251024T182219Z
UID:10002990-1752501600-1752503400@big-cypress.com
SUMMARY:Fish Feeding
DESCRIPTION:Centered inside Bass Pro Shops\, the aquarium houses several species of native Tennessee fish. Stop by daily at 2:00 PM to enjoy a live fish feedings by our Bass Pro Shops staff.
URL:https://big-cypress.com/event/fish-feeding/2025-07-14/
LOCATION:Bass Pro Shops\, 1 Bass Pro Dr\, Memphis\, TN\, 38105\, United States
CATEGORIES:Bass Pro Shops Pyramid
ATTACH;FMTTYPE=image/png:https://big-cypress.com/wp-content/uploads/2025/01/Fish-Feeding-Aquarium-2025.png
END:VEVENT
BEGIN:VEVENT
DTSTART;TZID=America/Chicago:20250715T140000
DTEND;TZID=America/Chicago:20250715T143000
DTSTAMP:20260420T072002
CREATED:20250109T195741Z
LAST-MODIFIED:20251024T182219Z
UID:10002991-1752588000-1752589800@big-cypress.com
SUMMARY:Fish Feeding
DESCRIPTION:Centered inside Bass Pro Shops\, the aquarium houses several species of native Tennessee fish. Stop by daily at 2:00 PM to enjoy a live fish feedings by our Bass Pro Shops staff.
URL:https://big-cypress.com/event/fish-feeding/2025-07-15/
LOCATION:Bass Pro Shops\, 1 Bass Pro Dr\, Memphis\, TN\, 38105\, United States
CATEGORIES:Bass Pro Shops Pyramid
ATTACH;FMTTYPE=image/png:https://big-cypress.com/wp-content/uploads/2025/01/Fish-Feeding-Aquarium-2025.png
END:VEVENT
BEGIN:VEVENT
DTSTART;TZID=America/Chicago:20250716T140000
DTEND;TZID=America/Chicago:20250716T143000
DTSTAMP:20260420T072002
CREATED:20250109T195741Z
LAST-MODIFIED:20251024T182219Z
UID:10002992-1752674400-1752676200@big-cypress.com
SUMMARY:Fish Feeding
DESCRIPTION:Centered inside Bass Pro Shops\, the aquarium houses several species of native Tennessee fish. Stop by daily at 2:00 PM to enjoy a live fish feedings by our Bass Pro Shops staff.
URL:https://big-cypress.com/event/fish-feeding/2025-07-16/
LOCATION:Bass Pro Shops\, 1 Bass Pro Dr\, Memphis\, TN\, 38105\, United States
CATEGORIES:Bass Pro Shops Pyramid
ATTACH;FMTTYPE=image/png:https://big-cypress.com/wp-content/uploads/2025/01/Fish-Feeding-Aquarium-2025.png
END:VEVENT
BEGIN:VEVENT
DTSTART;TZID=America/Chicago:20250717T140000
DTEND;TZID=America/Chicago:20250717T143000
DTSTAMP:20260420T072002
CREATED:20250109T195741Z
LAST-MODIFIED:20251024T182219Z
UID:10002993-1752760800-1752762600@big-cypress.com
SUMMARY:Fish Feeding
DESCRIPTION:Centered inside Bass Pro Shops\, the aquarium houses several species of native Tennessee fish. Stop by daily at 2:00 PM to enjoy a live fish feedings by our Bass Pro Shops staff.
URL:https://big-cypress.com/event/fish-feeding/2025-07-17/
LOCATION:Bass Pro Shops\, 1 Bass Pro Dr\, Memphis\, TN\, 38105\, United States
CATEGORIES:Bass Pro Shops Pyramid
ATTACH;FMTTYPE=image/png:https://big-cypress.com/wp-content/uploads/2025/01/Fish-Feeding-Aquarium-2025.png
END:VEVENT
BEGIN:VEVENT
DTSTART;TZID=America/Chicago:20250718T140000
DTEND;TZID=America/Chicago:20250718T143000
DTSTAMP:20260420T072002
CREATED:20250109T195741Z
LAST-MODIFIED:20251024T182219Z
UID:10002994-1752847200-1752849000@big-cypress.com
SUMMARY:Fish Feeding
DESCRIPTION:Centered inside Bass Pro Shops\, the aquarium houses several species of native Tennessee fish. Stop by daily at 2:00 PM to enjoy a live fish feedings by our Bass Pro Shops staff.
URL:https://big-cypress.com/event/fish-feeding/2025-07-18/
LOCATION:Bass Pro Shops\, 1 Bass Pro Dr\, Memphis\, TN\, 38105\, United States
CATEGORIES:Bass Pro Shops Pyramid
ATTACH;FMTTYPE=image/png:https://big-cypress.com/wp-content/uploads/2025/01/Fish-Feeding-Aquarium-2025.png
END:VEVENT
BEGIN:VEVENT
DTSTART;TZID=America/Chicago:20250719T140000
DTEND;TZID=America/Chicago:20250719T143000
DTSTAMP:20260420T072002
CREATED:20250109T195741Z
LAST-MODIFIED:20251024T182219Z
UID:10002995-1752933600-1752935400@big-cypress.com
SUMMARY:Fish Feeding
DESCRIPTION:Centered inside Bass Pro Shops\, the aquarium houses several species of native Tennessee fish. Stop by daily at 2:00 PM to enjoy a live fish feedings by our Bass Pro Shops staff.
URL:https://big-cypress.com/event/fish-feeding/2025-07-19/
LOCATION:Bass Pro Shops\, 1 Bass Pro Dr\, Memphis\, TN\, 38105\, United States
CATEGORIES:Bass Pro Shops Pyramid
ATTACH;FMTTYPE=image/png:https://big-cypress.com/wp-content/uploads/2025/01/Fish-Feeding-Aquarium-2025.png
END:VEVENT
BEGIN:VEVENT
DTSTART;TZID=America/Chicago:20250720T140000
DTEND;TZID=America/Chicago:20250720T143000
DTSTAMP:20260420T072002
CREATED:20250109T195741Z
LAST-MODIFIED:20251024T182219Z
UID:10002996-1753020000-1753021800@big-cypress.com
SUMMARY:Fish Feeding
DESCRIPTION:Centered inside Bass Pro Shops\, the aquarium houses several species of native Tennessee fish. Stop by daily at 2:00 PM to enjoy a live fish feedings by our Bass Pro Shops staff.
URL:https://big-cypress.com/event/fish-feeding/2025-07-20/
LOCATION:Bass Pro Shops\, 1 Bass Pro Dr\, Memphis\, TN\, 38105\, United States
CATEGORIES:Bass Pro Shops Pyramid
ATTACH;FMTTYPE=image/png:https://big-cypress.com/wp-content/uploads/2025/01/Fish-Feeding-Aquarium-2025.png
END:VEVENT
BEGIN:VEVENT
DTSTART;TZID=America/Chicago:20250721T140000
DTEND;TZID=America/Chicago:20250721T143000
DTSTAMP:20260420T072002
CREATED:20250109T195741Z
LAST-MODIFIED:20251024T182219Z
UID:10002997-1753106400-1753108200@big-cypress.com
SUMMARY:Fish Feeding
DESCRIPTION:Centered inside Bass Pro Shops\, the aquarium houses several species of native Tennessee fish. Stop by daily at 2:00 PM to enjoy a live fish feedings by our Bass Pro Shops staff.
URL:https://big-cypress.com/event/fish-feeding/2025-07-21/
LOCATION:Bass Pro Shops\, 1 Bass Pro Dr\, Memphis\, TN\, 38105\, United States
CATEGORIES:Bass Pro Shops Pyramid
ATTACH;FMTTYPE=image/png:https://big-cypress.com/wp-content/uploads/2025/01/Fish-Feeding-Aquarium-2025.png
END:VEVENT
BEGIN:VEVENT
DTSTART;TZID=America/Chicago:20250722T140000
DTEND;TZID=America/Chicago:20250722T143000
DTSTAMP:20260420T072002
CREATED:20250109T195741Z
LAST-MODIFIED:20251024T182219Z
UID:10002998-1753192800-1753194600@big-cypress.com
SUMMARY:Fish Feeding
DESCRIPTION:Centered inside Bass Pro Shops\, the aquarium houses several species of native Tennessee fish. Stop by daily at 2:00 PM to enjoy a live fish feedings by our Bass Pro Shops staff.
URL:https://big-cypress.com/event/fish-feeding/2025-07-22/
LOCATION:Bass Pro Shops\, 1 Bass Pro Dr\, Memphis\, TN\, 38105\, United States
CATEGORIES:Bass Pro Shops Pyramid
ATTACH;FMTTYPE=image/png:https://big-cypress.com/wp-content/uploads/2025/01/Fish-Feeding-Aquarium-2025.png
END:VEVENT
BEGIN:VEVENT
DTSTART;TZID=America/Chicago:20250723T140000
DTEND;TZID=America/Chicago:20250723T143000
DTSTAMP:20260420T072002
CREATED:20250109T195741Z
LAST-MODIFIED:20251024T182219Z
UID:10002999-1753279200-1753281000@big-cypress.com
SUMMARY:Fish Feeding
DESCRIPTION:Centered inside Bass Pro Shops\, the aquarium houses several species of native Tennessee fish. Stop by daily at 2:00 PM to enjoy a live fish feedings by our Bass Pro Shops staff.
URL:https://big-cypress.com/event/fish-feeding/2025-07-23/
LOCATION:Bass Pro Shops\, 1 Bass Pro Dr\, Memphis\, TN\, 38105\, United States
CATEGORIES:Bass Pro Shops Pyramid
ATTACH;FMTTYPE=image/png:https://big-cypress.com/wp-content/uploads/2025/01/Fish-Feeding-Aquarium-2025.png
END:VEVENT
BEGIN:VEVENT
DTSTART;TZID=America/Chicago:20250724T140000
DTEND;TZID=America/Chicago:20250724T143000
DTSTAMP:20260420T072002
CREATED:20250109T195741Z
LAST-MODIFIED:20251024T182219Z
UID:10003000-1753365600-1753367400@big-cypress.com
SUMMARY:Fish Feeding
DESCRIPTION:Centered inside Bass Pro Shops\, the aquarium houses several species of native Tennessee fish. Stop by daily at 2:00 PM to enjoy a live fish feedings by our Bass Pro Shops staff.
URL:https://big-cypress.com/event/fish-feeding/2025-07-24/
LOCATION:Bass Pro Shops\, 1 Bass Pro Dr\, Memphis\, TN\, 38105\, United States
CATEGORIES:Bass Pro Shops Pyramid
ATTACH;FMTTYPE=image/png:https://big-cypress.com/wp-content/uploads/2025/01/Fish-Feeding-Aquarium-2025.png
END:VEVENT
BEGIN:VEVENT
DTSTART;TZID=America/Chicago:20250725T140000
DTEND;TZID=America/Chicago:20250725T143000
DTSTAMP:20260420T072002
CREATED:20250109T195741Z
LAST-MODIFIED:20251024T182219Z
UID:10003001-1753452000-1753453800@big-cypress.com
SUMMARY:Fish Feeding
DESCRIPTION:Centered inside Bass Pro Shops\, the aquarium houses several species of native Tennessee fish. Stop by daily at 2:00 PM to enjoy a live fish feedings by our Bass Pro Shops staff.
URL:https://big-cypress.com/event/fish-feeding/2025-07-25/
LOCATION:Bass Pro Shops\, 1 Bass Pro Dr\, Memphis\, TN\, 38105\, United States
CATEGORIES:Bass Pro Shops Pyramid
ATTACH;FMTTYPE=image/png:https://big-cypress.com/wp-content/uploads/2025/01/Fish-Feeding-Aquarium-2025.png
END:VEVENT
BEGIN:VEVENT
DTSTART;TZID=America/Chicago:20250726T140000
DTEND;TZID=America/Chicago:20250726T143000
DTSTAMP:20260420T072002
CREATED:20250109T195741Z
LAST-MODIFIED:20251024T182219Z
UID:10003002-1753538400-1753540200@big-cypress.com
SUMMARY:Fish Feeding
DESCRIPTION:Centered inside Bass Pro Shops\, the aquarium houses several species of native Tennessee fish. Stop by daily at 2:00 PM to enjoy a live fish feedings by our Bass Pro Shops staff.
URL:https://big-cypress.com/event/fish-feeding/2025-07-26/
LOCATION:Bass Pro Shops\, 1 Bass Pro Dr\, Memphis\, TN\, 38105\, United States
CATEGORIES:Bass Pro Shops Pyramid
ATTACH;FMTTYPE=image/png:https://big-cypress.com/wp-content/uploads/2025/01/Fish-Feeding-Aquarium-2025.png
END:VEVENT
BEGIN:VEVENT
DTSTART;TZID=America/Chicago:20250727T140000
DTEND;TZID=America/Chicago:20250727T143000
DTSTAMP:20260420T072002
CREATED:20250109T195741Z
LAST-MODIFIED:20251024T182219Z
UID:10003003-1753624800-1753626600@big-cypress.com
SUMMARY:Fish Feeding
DESCRIPTION:Centered inside Bass Pro Shops\, the aquarium houses several species of native Tennessee fish. Stop by daily at 2:00 PM to enjoy a live fish feedings by our Bass Pro Shops staff.
URL:https://big-cypress.com/event/fish-feeding/2025-07-27/
LOCATION:Bass Pro Shops\, 1 Bass Pro Dr\, Memphis\, TN\, 38105\, United States
CATEGORIES:Bass Pro Shops Pyramid
ATTACH;FMTTYPE=image/png:https://big-cypress.com/wp-content/uploads/2025/01/Fish-Feeding-Aquarium-2025.png
END:VEVENT
BEGIN:VEVENT
DTSTART;TZID=America/Chicago:20250728T140000
DTEND;TZID=America/Chicago:20250728T143000
DTSTAMP:20260420T072002
CREATED:20250109T195741Z
LAST-MODIFIED:20251024T182219Z
UID:10003004-1753711200-1753713000@big-cypress.com
SUMMARY:Fish Feeding
DESCRIPTION:Centered inside Bass Pro Shops\, the aquarium houses several species of native Tennessee fish. Stop by daily at 2:00 PM to enjoy a live fish feedings by our Bass Pro Shops staff.
URL:https://big-cypress.com/event/fish-feeding/2025-07-28/
LOCATION:Bass Pro Shops\, 1 Bass Pro Dr\, Memphis\, TN\, 38105\, United States
CATEGORIES:Bass Pro Shops Pyramid
ATTACH;FMTTYPE=image/png:https://big-cypress.com/wp-content/uploads/2025/01/Fish-Feeding-Aquarium-2025.png
END:VEVENT
BEGIN:VEVENT
DTSTART;TZID=America/Chicago:20250729T140000
DTEND;TZID=America/Chicago:20250729T143000
DTSTAMP:20260420T072002
CREATED:20250109T195741Z
LAST-MODIFIED:20251024T182219Z
UID:10003005-1753797600-1753799400@big-cypress.com
SUMMARY:Fish Feeding
DESCRIPTION:Centered inside Bass Pro Shops\, the aquarium houses several species of native Tennessee fish. Stop by daily at 2:00 PM to enjoy a live fish feedings by our Bass Pro Shops staff.
URL:https://big-cypress.com/event/fish-feeding/2025-07-29/
LOCATION:Bass Pro Shops\, 1 Bass Pro Dr\, Memphis\, TN\, 38105\, United States
CATEGORIES:Bass Pro Shops Pyramid
ATTACH;FMTTYPE=image/png:https://big-cypress.com/wp-content/uploads/2025/01/Fish-Feeding-Aquarium-2025.png
END:VEVENT
BEGIN:VEVENT
DTSTART;TZID=America/Chicago:20250730T140000
DTEND;TZID=America/Chicago:20250730T143000
DTSTAMP:20260420T072002
CREATED:20250109T195741Z
LAST-MODIFIED:20251024T182219Z
UID:10003006-1753884000-1753885800@big-cypress.com
SUMMARY:Fish Feeding
DESCRIPTION:Centered inside Bass Pro Shops\, the aquarium houses several species of native Tennessee fish. Stop by daily at 2:00 PM to enjoy a live fish feedings by our Bass Pro Shops staff.
URL:https://big-cypress.com/event/fish-feeding/2025-07-30/
LOCATION:Bass Pro Shops\, 1 Bass Pro Dr\, Memphis\, TN\, 38105\, United States
CATEGORIES:Bass Pro Shops Pyramid
ATTACH;FMTTYPE=image/png:https://big-cypress.com/wp-content/uploads/2025/01/Fish-Feeding-Aquarium-2025.png
END:VEVENT
END:VCALENDAR