BEGIN:VCALENDAR
VERSION:2.0
PRODID:-//Big Cypress Lodge - ECPv6.15.18//NONSGML v1.0//EN
CALSCALE:GREGORIAN
METHOD:PUBLISH
X-WR-CALNAME:Big Cypress Lodge
X-ORIGINAL-URL:https://big-cypress.com
X-WR-CALDESC:Events for Big Cypress Lodge
REFRESH-INTERVAL;VALUE=DURATION:PT1H
X-Robots-Tag:noindex
X-PUBLISHED-TTL:PT1H
BEGIN:VTIMEZONE
TZID:America/Chicago
BEGIN:DAYLIGHT
TZOFFSETFROM:-0600
TZOFFSETTO:-0500
TZNAME:CDT
DTSTART:20240310T080000
END:DAYLIGHT
BEGIN:STANDARD
TZOFFSETFROM:-0500
TZOFFSETTO:-0600
TZNAME:CST
DTSTART:20241103T070000
END:STANDARD
BEGIN:DAYLIGHT
TZOFFSETFROM:-0600
TZOFFSETTO:-0500
TZNAME:CDT
DTSTART:20250309T080000
END:DAYLIGHT
BEGIN:STANDARD
TZOFFSETFROM:-0500
TZOFFSETTO:-0600
TZNAME:CST
DTSTART:20251102T070000
END:STANDARD
BEGIN:DAYLIGHT
TZOFFSETFROM:-0600
TZOFFSETTO:-0500
TZNAME:CDT
DTSTART:20260308T080000
END:DAYLIGHT
BEGIN:STANDARD
TZOFFSETFROM:-0500
TZOFFSETTO:-0600
TZNAME:CST
DTSTART:20261101T070000
END:STANDARD
END:VTIMEZONE
BEGIN:VEVENT
DTSTART;TZID=America/Chicago:20251201T140000
DTEND;TZID=America/Chicago:20251201T143000
DTSTAMP:20260419T204735
CREATED:20250109T195741Z
LAST-MODIFIED:20251024T182219Z
UID:10003130-1764597600-1764599400@big-cypress.com
SUMMARY:Fish Feeding
DESCRIPTION:Centered inside Bass Pro Shops\, the aquarium houses several species of native Tennessee fish. Stop by daily at 2:00 PM to enjoy a live fish feedings by our Bass Pro Shops staff.
URL:https://big-cypress.com/event/fish-feeding/2025-12-01/
LOCATION:Bass Pro Shops\, 1 Bass Pro Dr\, Memphis\, TN\, 38105\, United States
CATEGORIES:Bass Pro Shops Pyramid
ATTACH;FMTTYPE=image/png:https://big-cypress.com/wp-content/uploads/2025/01/Fish-Feeding-Aquarium-2025.png
END:VEVENT
BEGIN:VEVENT
DTSTART;TZID=America/Chicago:20251202T140000
DTEND;TZID=America/Chicago:20251202T143000
DTSTAMP:20260419T204735
CREATED:20250109T195741Z
LAST-MODIFIED:20251024T182219Z
UID:10003131-1764684000-1764685800@big-cypress.com
SUMMARY:Fish Feeding
DESCRIPTION:Centered inside Bass Pro Shops\, the aquarium houses several species of native Tennessee fish. Stop by daily at 2:00 PM to enjoy a live fish feedings by our Bass Pro Shops staff.
URL:https://big-cypress.com/event/fish-feeding/2025-12-02/
LOCATION:Bass Pro Shops\, 1 Bass Pro Dr\, Memphis\, TN\, 38105\, United States
CATEGORIES:Bass Pro Shops Pyramid
ATTACH;FMTTYPE=image/png:https://big-cypress.com/wp-content/uploads/2025/01/Fish-Feeding-Aquarium-2025.png
END:VEVENT
BEGIN:VEVENT
DTSTART;TZID=America/Chicago:20251203T140000
DTEND;TZID=America/Chicago:20251203T143000
DTSTAMP:20260419T204735
CREATED:20250109T195741Z
LAST-MODIFIED:20251024T182219Z
UID:10003132-1764770400-1764772200@big-cypress.com
SUMMARY:Fish Feeding
DESCRIPTION:Centered inside Bass Pro Shops\, the aquarium houses several species of native Tennessee fish. Stop by daily at 2:00 PM to enjoy a live fish feedings by our Bass Pro Shops staff.
URL:https://big-cypress.com/event/fish-feeding/2025-12-03/
LOCATION:Bass Pro Shops\, 1 Bass Pro Dr\, Memphis\, TN\, 38105\, United States
CATEGORIES:Bass Pro Shops Pyramid
ATTACH;FMTTYPE=image/png:https://big-cypress.com/wp-content/uploads/2025/01/Fish-Feeding-Aquarium-2025.png
END:VEVENT
BEGIN:VEVENT
DTSTART;TZID=America/Chicago:20251204T140000
DTEND;TZID=America/Chicago:20251204T143000
DTSTAMP:20260419T204735
CREATED:20250109T195741Z
LAST-MODIFIED:20251024T182219Z
UID:10003133-1764856800-1764858600@big-cypress.com
SUMMARY:Fish Feeding
DESCRIPTION:Centered inside Bass Pro Shops\, the aquarium houses several species of native Tennessee fish. Stop by daily at 2:00 PM to enjoy a live fish feedings by our Bass Pro Shops staff.
URL:https://big-cypress.com/event/fish-feeding/2025-12-04/
LOCATION:Bass Pro Shops\, 1 Bass Pro Dr\, Memphis\, TN\, 38105\, United States
CATEGORIES:Bass Pro Shops Pyramid
ATTACH;FMTTYPE=image/png:https://big-cypress.com/wp-content/uploads/2025/01/Fish-Feeding-Aquarium-2025.png
END:VEVENT
BEGIN:VEVENT
DTSTART;TZID=America/Chicago:20251205T140000
DTEND;TZID=America/Chicago:20251205T143000
DTSTAMP:20260419T204735
CREATED:20250109T195741Z
LAST-MODIFIED:20251024T182219Z
UID:10003134-1764943200-1764945000@big-cypress.com
SUMMARY:Fish Feeding
DESCRIPTION:Centered inside Bass Pro Shops\, the aquarium houses several species of native Tennessee fish. Stop by daily at 2:00 PM to enjoy a live fish feedings by our Bass Pro Shops staff.
URL:https://big-cypress.com/event/fish-feeding/2025-12-05/
LOCATION:Bass Pro Shops\, 1 Bass Pro Dr\, Memphis\, TN\, 38105\, United States
CATEGORIES:Bass Pro Shops Pyramid
ATTACH;FMTTYPE=image/png:https://big-cypress.com/wp-content/uploads/2025/01/Fish-Feeding-Aquarium-2025.png
END:VEVENT
BEGIN:VEVENT
DTSTART;TZID=America/Chicago:20251206T140000
DTEND;TZID=America/Chicago:20251206T143000
DTSTAMP:20260419T204735
CREATED:20250109T195741Z
LAST-MODIFIED:20251024T182219Z
UID:10003135-1765029600-1765031400@big-cypress.com
SUMMARY:Fish Feeding
DESCRIPTION:Centered inside Bass Pro Shops\, the aquarium houses several species of native Tennessee fish. Stop by daily at 2:00 PM to enjoy a live fish feedings by our Bass Pro Shops staff.
URL:https://big-cypress.com/event/fish-feeding/2025-12-06/
LOCATION:Bass Pro Shops\, 1 Bass Pro Dr\, Memphis\, TN\, 38105\, United States
CATEGORIES:Bass Pro Shops Pyramid
ATTACH;FMTTYPE=image/png:https://big-cypress.com/wp-content/uploads/2025/01/Fish-Feeding-Aquarium-2025.png
END:VEVENT
BEGIN:VEVENT
DTSTART;TZID=America/Chicago:20251207T140000
DTEND;TZID=America/Chicago:20251207T143000
DTSTAMP:20260419T204735
CREATED:20250109T195741Z
LAST-MODIFIED:20251024T182219Z
UID:10003136-1765116000-1765117800@big-cypress.com
SUMMARY:Fish Feeding
DESCRIPTION:Centered inside Bass Pro Shops\, the aquarium houses several species of native Tennessee fish. Stop by daily at 2:00 PM to enjoy a live fish feedings by our Bass Pro Shops staff.
URL:https://big-cypress.com/event/fish-feeding/2025-12-07/
LOCATION:Bass Pro Shops\, 1 Bass Pro Dr\, Memphis\, TN\, 38105\, United States
CATEGORIES:Bass Pro Shops Pyramid
ATTACH;FMTTYPE=image/png:https://big-cypress.com/wp-content/uploads/2025/01/Fish-Feeding-Aquarium-2025.png
END:VEVENT
BEGIN:VEVENT
DTSTART;TZID=America/Chicago:20251208T140000
DTEND;TZID=America/Chicago:20251208T143000
DTSTAMP:20260419T204735
CREATED:20250109T195741Z
LAST-MODIFIED:20251024T182219Z
UID:10003137-1765202400-1765204200@big-cypress.com
SUMMARY:Fish Feeding
DESCRIPTION:Centered inside Bass Pro Shops\, the aquarium houses several species of native Tennessee fish. Stop by daily at 2:00 PM to enjoy a live fish feedings by our Bass Pro Shops staff.
URL:https://big-cypress.com/event/fish-feeding/2025-12-08/
LOCATION:Bass Pro Shops\, 1 Bass Pro Dr\, Memphis\, TN\, 38105\, United States
CATEGORIES:Bass Pro Shops Pyramid
ATTACH;FMTTYPE=image/png:https://big-cypress.com/wp-content/uploads/2025/01/Fish-Feeding-Aquarium-2025.png
END:VEVENT
BEGIN:VEVENT
DTSTART;TZID=America/Chicago:20251209T140000
DTEND;TZID=America/Chicago:20251209T143000
DTSTAMP:20260419T204735
CREATED:20250109T195741Z
LAST-MODIFIED:20251024T182219Z
UID:10003138-1765288800-1765290600@big-cypress.com
SUMMARY:Fish Feeding
DESCRIPTION:Centered inside Bass Pro Shops\, the aquarium houses several species of native Tennessee fish. Stop by daily at 2:00 PM to enjoy a live fish feedings by our Bass Pro Shops staff.
URL:https://big-cypress.com/event/fish-feeding/2025-12-09/
LOCATION:Bass Pro Shops\, 1 Bass Pro Dr\, Memphis\, TN\, 38105\, United States
CATEGORIES:Bass Pro Shops Pyramid
ATTACH;FMTTYPE=image/png:https://big-cypress.com/wp-content/uploads/2025/01/Fish-Feeding-Aquarium-2025.png
END:VEVENT
BEGIN:VEVENT
DTSTART;TZID=America/Chicago:20251210T140000
DTEND;TZID=America/Chicago:20251210T143000
DTSTAMP:20260419T204735
CREATED:20250109T195741Z
LAST-MODIFIED:20251024T182219Z
UID:10003139-1765375200-1765377000@big-cypress.com
SUMMARY:Fish Feeding
DESCRIPTION:Centered inside Bass Pro Shops\, the aquarium houses several species of native Tennessee fish. Stop by daily at 2:00 PM to enjoy a live fish feedings by our Bass Pro Shops staff.
URL:https://big-cypress.com/event/fish-feeding/2025-12-10/
LOCATION:Bass Pro Shops\, 1 Bass Pro Dr\, Memphis\, TN\, 38105\, United States
CATEGORIES:Bass Pro Shops Pyramid
ATTACH;FMTTYPE=image/png:https://big-cypress.com/wp-content/uploads/2025/01/Fish-Feeding-Aquarium-2025.png
END:VEVENT
BEGIN:VEVENT
DTSTART;TZID=America/Chicago:20251211T140000
DTEND;TZID=America/Chicago:20251211T143000
DTSTAMP:20260419T204735
CREATED:20250109T195741Z
LAST-MODIFIED:20251024T182219Z
UID:10003140-1765461600-1765463400@big-cypress.com
SUMMARY:Fish Feeding
DESCRIPTION:Centered inside Bass Pro Shops\, the aquarium houses several species of native Tennessee fish. Stop by daily at 2:00 PM to enjoy a live fish feedings by our Bass Pro Shops staff.
URL:https://big-cypress.com/event/fish-feeding/2025-12-11/
LOCATION:Bass Pro Shops\, 1 Bass Pro Dr\, Memphis\, TN\, 38105\, United States
CATEGORIES:Bass Pro Shops Pyramid
ATTACH;FMTTYPE=image/png:https://big-cypress.com/wp-content/uploads/2025/01/Fish-Feeding-Aquarium-2025.png
END:VEVENT
BEGIN:VEVENT
DTSTART;TZID=America/Chicago:20251212T140000
DTEND;TZID=America/Chicago:20251212T143000
DTSTAMP:20260419T204735
CREATED:20250109T195741Z
LAST-MODIFIED:20251024T182219Z
UID:10003141-1765548000-1765549800@big-cypress.com
SUMMARY:Fish Feeding
DESCRIPTION:Centered inside Bass Pro Shops\, the aquarium houses several species of native Tennessee fish. Stop by daily at 2:00 PM to enjoy a live fish feedings by our Bass Pro Shops staff.
URL:https://big-cypress.com/event/fish-feeding/2025-12-12/
LOCATION:Bass Pro Shops\, 1 Bass Pro Dr\, Memphis\, TN\, 38105\, United States
CATEGORIES:Bass Pro Shops Pyramid
ATTACH;FMTTYPE=image/png:https://big-cypress.com/wp-content/uploads/2025/01/Fish-Feeding-Aquarium-2025.png
END:VEVENT
BEGIN:VEVENT
DTSTART;TZID=America/Chicago:20251213T140000
DTEND;TZID=America/Chicago:20251213T143000
DTSTAMP:20260419T204735
CREATED:20250109T195741Z
LAST-MODIFIED:20251024T182219Z
UID:10003142-1765634400-1765636200@big-cypress.com
SUMMARY:Fish Feeding
DESCRIPTION:Centered inside Bass Pro Shops\, the aquarium houses several species of native Tennessee fish. Stop by daily at 2:00 PM to enjoy a live fish feedings by our Bass Pro Shops staff.
URL:https://big-cypress.com/event/fish-feeding/2025-12-13/
LOCATION:Bass Pro Shops\, 1 Bass Pro Dr\, Memphis\, TN\, 38105\, United States
CATEGORIES:Bass Pro Shops Pyramid
ATTACH;FMTTYPE=image/png:https://big-cypress.com/wp-content/uploads/2025/01/Fish-Feeding-Aquarium-2025.png
END:VEVENT
BEGIN:VEVENT
DTSTART;TZID=America/Chicago:20251214T140000
DTEND;TZID=America/Chicago:20251214T143000
DTSTAMP:20260419T204735
CREATED:20250109T195741Z
LAST-MODIFIED:20251024T182219Z
UID:10003143-1765720800-1765722600@big-cypress.com
SUMMARY:Fish Feeding
DESCRIPTION:Centered inside Bass Pro Shops\, the aquarium houses several species of native Tennessee fish. Stop by daily at 2:00 PM to enjoy a live fish feedings by our Bass Pro Shops staff.
URL:https://big-cypress.com/event/fish-feeding/2025-12-14/
LOCATION:Bass Pro Shops\, 1 Bass Pro Dr\, Memphis\, TN\, 38105\, United States
CATEGORIES:Bass Pro Shops Pyramid
ATTACH;FMTTYPE=image/png:https://big-cypress.com/wp-content/uploads/2025/01/Fish-Feeding-Aquarium-2025.png
END:VEVENT
BEGIN:VEVENT
DTSTART;TZID=America/Chicago:20251215T140000
DTEND;TZID=America/Chicago:20251215T143000
DTSTAMP:20260419T204735
CREATED:20250109T195741Z
LAST-MODIFIED:20251024T182219Z
UID:10003144-1765807200-1765809000@big-cypress.com
SUMMARY:Fish Feeding
DESCRIPTION:Centered inside Bass Pro Shops\, the aquarium houses several species of native Tennessee fish. Stop by daily at 2:00 PM to enjoy a live fish feedings by our Bass Pro Shops staff.
URL:https://big-cypress.com/event/fish-feeding/2025-12-15/
LOCATION:Bass Pro Shops\, 1 Bass Pro Dr\, Memphis\, TN\, 38105\, United States
CATEGORIES:Bass Pro Shops Pyramid
ATTACH;FMTTYPE=image/png:https://big-cypress.com/wp-content/uploads/2025/01/Fish-Feeding-Aquarium-2025.png
END:VEVENT
BEGIN:VEVENT
DTSTART;TZID=America/Chicago:20251216T140000
DTEND;TZID=America/Chicago:20251216T143000
DTSTAMP:20260419T204735
CREATED:20250109T195741Z
LAST-MODIFIED:20251024T182219Z
UID:10003145-1765893600-1765895400@big-cypress.com
SUMMARY:Fish Feeding
DESCRIPTION:Centered inside Bass Pro Shops\, the aquarium houses several species of native Tennessee fish. Stop by daily at 2:00 PM to enjoy a live fish feedings by our Bass Pro Shops staff.
URL:https://big-cypress.com/event/fish-feeding/2025-12-16/
LOCATION:Bass Pro Shops\, 1 Bass Pro Dr\, Memphis\, TN\, 38105\, United States
CATEGORIES:Bass Pro Shops Pyramid
ATTACH;FMTTYPE=image/png:https://big-cypress.com/wp-content/uploads/2025/01/Fish-Feeding-Aquarium-2025.png
END:VEVENT
BEGIN:VEVENT
DTSTART;TZID=America/Chicago:20251217T140000
DTEND;TZID=America/Chicago:20251217T143000
DTSTAMP:20260419T204735
CREATED:20250109T195741Z
LAST-MODIFIED:20251024T182219Z
UID:10003146-1765980000-1765981800@big-cypress.com
SUMMARY:Fish Feeding
DESCRIPTION:Centered inside Bass Pro Shops\, the aquarium houses several species of native Tennessee fish. Stop by daily at 2:00 PM to enjoy a live fish feedings by our Bass Pro Shops staff.
URL:https://big-cypress.com/event/fish-feeding/2025-12-17/
LOCATION:Bass Pro Shops\, 1 Bass Pro Dr\, Memphis\, TN\, 38105\, United States
CATEGORIES:Bass Pro Shops Pyramid
ATTACH;FMTTYPE=image/png:https://big-cypress.com/wp-content/uploads/2025/01/Fish-Feeding-Aquarium-2025.png
END:VEVENT
BEGIN:VEVENT
DTSTART;TZID=America/Chicago:20251218T140000
DTEND;TZID=America/Chicago:20251218T143000
DTSTAMP:20260419T204735
CREATED:20250109T195741Z
LAST-MODIFIED:20251024T182219Z
UID:10003147-1766066400-1766068200@big-cypress.com
SUMMARY:Fish Feeding
DESCRIPTION:Centered inside Bass Pro Shops\, the aquarium houses several species of native Tennessee fish. Stop by daily at 2:00 PM to enjoy a live fish feedings by our Bass Pro Shops staff.
URL:https://big-cypress.com/event/fish-feeding/2025-12-18/
LOCATION:Bass Pro Shops\, 1 Bass Pro Dr\, Memphis\, TN\, 38105\, United States
CATEGORIES:Bass Pro Shops Pyramid
ATTACH;FMTTYPE=image/png:https://big-cypress.com/wp-content/uploads/2025/01/Fish-Feeding-Aquarium-2025.png
END:VEVENT
BEGIN:VEVENT
DTSTART;TZID=America/Chicago:20251219T140000
DTEND;TZID=America/Chicago:20251219T143000
DTSTAMP:20260419T204735
CREATED:20250109T195741Z
LAST-MODIFIED:20251024T182219Z
UID:10003148-1766152800-1766154600@big-cypress.com
SUMMARY:Fish Feeding
DESCRIPTION:Centered inside Bass Pro Shops\, the aquarium houses several species of native Tennessee fish. Stop by daily at 2:00 PM to enjoy a live fish feedings by our Bass Pro Shops staff.
URL:https://big-cypress.com/event/fish-feeding/2025-12-19/
LOCATION:Bass Pro Shops\, 1 Bass Pro Dr\, Memphis\, TN\, 38105\, United States
CATEGORIES:Bass Pro Shops Pyramid
ATTACH;FMTTYPE=image/png:https://big-cypress.com/wp-content/uploads/2025/01/Fish-Feeding-Aquarium-2025.png
END:VEVENT
BEGIN:VEVENT
DTSTART;TZID=America/Chicago:20251220T140000
DTEND;TZID=America/Chicago:20251220T143000
DTSTAMP:20260419T204735
CREATED:20250109T195741Z
LAST-MODIFIED:20251024T182219Z
UID:10003149-1766239200-1766241000@big-cypress.com
SUMMARY:Fish Feeding
DESCRIPTION:Centered inside Bass Pro Shops\, the aquarium houses several species of native Tennessee fish. Stop by daily at 2:00 PM to enjoy a live fish feedings by our Bass Pro Shops staff.
URL:https://big-cypress.com/event/fish-feeding/2025-12-20/
LOCATION:Bass Pro Shops\, 1 Bass Pro Dr\, Memphis\, TN\, 38105\, United States
CATEGORIES:Bass Pro Shops Pyramid
ATTACH;FMTTYPE=image/png:https://big-cypress.com/wp-content/uploads/2025/01/Fish-Feeding-Aquarium-2025.png
END:VEVENT
BEGIN:VEVENT
DTSTART;TZID=America/Chicago:20251221T140000
DTEND;TZID=America/Chicago:20251221T143000
DTSTAMP:20260419T204735
CREATED:20250109T195741Z
LAST-MODIFIED:20251024T182219Z
UID:10003150-1766325600-1766327400@big-cypress.com
SUMMARY:Fish Feeding
DESCRIPTION:Centered inside Bass Pro Shops\, the aquarium houses several species of native Tennessee fish. Stop by daily at 2:00 PM to enjoy a live fish feedings by our Bass Pro Shops staff.
URL:https://big-cypress.com/event/fish-feeding/2025-12-21/
LOCATION:Bass Pro Shops\, 1 Bass Pro Dr\, Memphis\, TN\, 38105\, United States
CATEGORIES:Bass Pro Shops Pyramid
ATTACH;FMTTYPE=image/png:https://big-cypress.com/wp-content/uploads/2025/01/Fish-Feeding-Aquarium-2025.png
END:VEVENT
BEGIN:VEVENT
DTSTART;TZID=America/Chicago:20251222T140000
DTEND;TZID=America/Chicago:20251222T143000
DTSTAMP:20260419T204735
CREATED:20250109T195741Z
LAST-MODIFIED:20251024T182219Z
UID:10003151-1766412000-1766413800@big-cypress.com
SUMMARY:Fish Feeding
DESCRIPTION:Centered inside Bass Pro Shops\, the aquarium houses several species of native Tennessee fish. Stop by daily at 2:00 PM to enjoy a live fish feedings by our Bass Pro Shops staff.
URL:https://big-cypress.com/event/fish-feeding/2025-12-22/
LOCATION:Bass Pro Shops\, 1 Bass Pro Dr\, Memphis\, TN\, 38105\, United States
CATEGORIES:Bass Pro Shops Pyramid
ATTACH;FMTTYPE=image/png:https://big-cypress.com/wp-content/uploads/2025/01/Fish-Feeding-Aquarium-2025.png
END:VEVENT
BEGIN:VEVENT
DTSTART;TZID=America/Chicago:20251223T140000
DTEND;TZID=America/Chicago:20251223T143000
DTSTAMP:20260419T204735
CREATED:20250109T195741Z
LAST-MODIFIED:20251024T182219Z
UID:10003152-1766498400-1766500200@big-cypress.com
SUMMARY:Fish Feeding
DESCRIPTION:Centered inside Bass Pro Shops\, the aquarium houses several species of native Tennessee fish. Stop by daily at 2:00 PM to enjoy a live fish feedings by our Bass Pro Shops staff.
URL:https://big-cypress.com/event/fish-feeding/2025-12-23/
LOCATION:Bass Pro Shops\, 1 Bass Pro Dr\, Memphis\, TN\, 38105\, United States
CATEGORIES:Bass Pro Shops Pyramid
ATTACH;FMTTYPE=image/png:https://big-cypress.com/wp-content/uploads/2025/01/Fish-Feeding-Aquarium-2025.png
END:VEVENT
BEGIN:VEVENT
DTSTART;TZID=America/Chicago:20251224T140000
DTEND;TZID=America/Chicago:20251224T143000
DTSTAMP:20260419T204735
CREATED:20250109T195741Z
LAST-MODIFIED:20251024T182219Z
UID:10003153-1766584800-1766586600@big-cypress.com
SUMMARY:Fish Feeding
DESCRIPTION:Centered inside Bass Pro Shops\, the aquarium houses several species of native Tennessee fish. Stop by daily at 2:00 PM to enjoy a live fish feedings by our Bass Pro Shops staff.
URL:https://big-cypress.com/event/fish-feeding/2025-12-24/
LOCATION:Bass Pro Shops\, 1 Bass Pro Dr\, Memphis\, TN\, 38105\, United States
CATEGORIES:Bass Pro Shops Pyramid
ATTACH;FMTTYPE=image/png:https://big-cypress.com/wp-content/uploads/2025/01/Fish-Feeding-Aquarium-2025.png
END:VEVENT
BEGIN:VEVENT
DTSTART;TZID=America/Chicago:20251225T140000
DTEND;TZID=America/Chicago:20251225T143000
DTSTAMP:20260419T204735
CREATED:20250109T195741Z
LAST-MODIFIED:20251024T182219Z
UID:10003154-1766671200-1766673000@big-cypress.com
SUMMARY:Fish Feeding
DESCRIPTION:Centered inside Bass Pro Shops\, the aquarium houses several species of native Tennessee fish. Stop by daily at 2:00 PM to enjoy a live fish feedings by our Bass Pro Shops staff.
URL:https://big-cypress.com/event/fish-feeding/2025-12-25/
LOCATION:Bass Pro Shops\, 1 Bass Pro Dr\, Memphis\, TN\, 38105\, United States
CATEGORIES:Bass Pro Shops Pyramid
ATTACH;FMTTYPE=image/png:https://big-cypress.com/wp-content/uploads/2025/01/Fish-Feeding-Aquarium-2025.png
END:VEVENT
BEGIN:VEVENT
DTSTART;TZID=America/Chicago:20251226T140000
DTEND;TZID=America/Chicago:20251226T143000
DTSTAMP:20260419T204735
CREATED:20250109T195741Z
LAST-MODIFIED:20251024T182219Z
UID:10003155-1766757600-1766759400@big-cypress.com
SUMMARY:Fish Feeding
DESCRIPTION:Centered inside Bass Pro Shops\, the aquarium houses several species of native Tennessee fish. Stop by daily at 2:00 PM to enjoy a live fish feedings by our Bass Pro Shops staff.
URL:https://big-cypress.com/event/fish-feeding/2025-12-26/
LOCATION:Bass Pro Shops\, 1 Bass Pro Dr\, Memphis\, TN\, 38105\, United States
CATEGORIES:Bass Pro Shops Pyramid
ATTACH;FMTTYPE=image/png:https://big-cypress.com/wp-content/uploads/2025/01/Fish-Feeding-Aquarium-2025.png
END:VEVENT
BEGIN:VEVENT
DTSTART;TZID=America/Chicago:20251227T140000
DTEND;TZID=America/Chicago:20251227T143000
DTSTAMP:20260419T204735
CREATED:20250109T195741Z
LAST-MODIFIED:20251024T182219Z
UID:10003156-1766844000-1766845800@big-cypress.com
SUMMARY:Fish Feeding
DESCRIPTION:Centered inside Bass Pro Shops\, the aquarium houses several species of native Tennessee fish. Stop by daily at 2:00 PM to enjoy a live fish feedings by our Bass Pro Shops staff.
URL:https://big-cypress.com/event/fish-feeding/2025-12-27/
LOCATION:Bass Pro Shops\, 1 Bass Pro Dr\, Memphis\, TN\, 38105\, United States
CATEGORIES:Bass Pro Shops Pyramid
ATTACH;FMTTYPE=image/png:https://big-cypress.com/wp-content/uploads/2025/01/Fish-Feeding-Aquarium-2025.png
END:VEVENT
BEGIN:VEVENT
DTSTART;TZID=America/Chicago:20251228T140000
DTEND;TZID=America/Chicago:20251228T143000
DTSTAMP:20260419T204735
CREATED:20250109T195741Z
LAST-MODIFIED:20251024T182219Z
UID:10003157-1766930400-1766932200@big-cypress.com
SUMMARY:Fish Feeding
DESCRIPTION:Centered inside Bass Pro Shops\, the aquarium houses several species of native Tennessee fish. Stop by daily at 2:00 PM to enjoy a live fish feedings by our Bass Pro Shops staff.
URL:https://big-cypress.com/event/fish-feeding/2025-12-28/
LOCATION:Bass Pro Shops\, 1 Bass Pro Dr\, Memphis\, TN\, 38105\, United States
CATEGORIES:Bass Pro Shops Pyramid
ATTACH;FMTTYPE=image/png:https://big-cypress.com/wp-content/uploads/2025/01/Fish-Feeding-Aquarium-2025.png
END:VEVENT
BEGIN:VEVENT
DTSTART;TZID=America/Chicago:20251229T140000
DTEND;TZID=America/Chicago:20251229T143000
DTSTAMP:20260419T204735
CREATED:20250109T195741Z
LAST-MODIFIED:20251024T182219Z
UID:10003158-1767016800-1767018600@big-cypress.com
SUMMARY:Fish Feeding
DESCRIPTION:Centered inside Bass Pro Shops\, the aquarium houses several species of native Tennessee fish. Stop by daily at 2:00 PM to enjoy a live fish feedings by our Bass Pro Shops staff.
URL:https://big-cypress.com/event/fish-feeding/2025-12-29/
LOCATION:Bass Pro Shops\, 1 Bass Pro Dr\, Memphis\, TN\, 38105\, United States
CATEGORIES:Bass Pro Shops Pyramid
ATTACH;FMTTYPE=image/png:https://big-cypress.com/wp-content/uploads/2025/01/Fish-Feeding-Aquarium-2025.png
END:VEVENT
BEGIN:VEVENT
DTSTART;TZID=America/Chicago:20251230T140000
DTEND;TZID=America/Chicago:20251230T143000
DTSTAMP:20260419T204735
CREATED:20250109T195741Z
LAST-MODIFIED:20251024T182219Z
UID:10003159-1767103200-1767105000@big-cypress.com
SUMMARY:Fish Feeding
DESCRIPTION:Centered inside Bass Pro Shops\, the aquarium houses several species of native Tennessee fish. Stop by daily at 2:00 PM to enjoy a live fish feedings by our Bass Pro Shops staff.
URL:https://big-cypress.com/event/fish-feeding/2025-12-30/
LOCATION:Bass Pro Shops\, 1 Bass Pro Dr\, Memphis\, TN\, 38105\, United States
CATEGORIES:Bass Pro Shops Pyramid
ATTACH;FMTTYPE=image/png:https://big-cypress.com/wp-content/uploads/2025/01/Fish-Feeding-Aquarium-2025.png
END:VEVENT
END:VCALENDAR