BEGIN:VCALENDAR
VERSION:2.0
PRODID:-//Big Cypress Lodge - ECPv6.15.18//NONSGML v1.0//EN
CALSCALE:GREGORIAN
METHOD:PUBLISH
X-WR-CALNAME:Big Cypress Lodge
X-ORIGINAL-URL:https://big-cypress.com
X-WR-CALDESC:Events for Big Cypress Lodge
REFRESH-INTERVAL;VALUE=DURATION:PT1H
X-Robots-Tag:noindex
X-PUBLISHED-TTL:PT1H
BEGIN:VTIMEZONE
TZID:America/Chicago
BEGIN:DAYLIGHT
TZOFFSETFROM:-0600
TZOFFSETTO:-0500
TZNAME:CDT
DTSTART:20250309T080000
END:DAYLIGHT
BEGIN:STANDARD
TZOFFSETFROM:-0500
TZOFFSETTO:-0600
TZNAME:CST
DTSTART:20251102T070000
END:STANDARD
BEGIN:DAYLIGHT
TZOFFSETFROM:-0600
TZOFFSETTO:-0500
TZNAME:CDT
DTSTART:20260308T080000
END:DAYLIGHT
BEGIN:STANDARD
TZOFFSETFROM:-0500
TZOFFSETTO:-0600
TZNAME:CST
DTSTART:20261101T070000
END:STANDARD
BEGIN:DAYLIGHT
TZOFFSETFROM:-0600
TZOFFSETTO:-0500
TZNAME:CDT
DTSTART:20270314T080000
END:DAYLIGHT
BEGIN:STANDARD
TZOFFSETFROM:-0500
TZOFFSETTO:-0600
TZNAME:CST
DTSTART:20271107T070000
END:STANDARD
END:VTIMEZONE
BEGIN:VEVENT
DTSTART;TZID=America/Chicago:20261017T190000
DTEND;TZID=America/Chicago:20261017T200000
DTSTAMP:20260422T050420
CREATED:20260101T175041Z
LAST-MODIFIED:20260210T213613Z
UID:10004017-1792263600-1792267200@big-cypress.com
SUMMARY:Bingo in the Den
DESCRIPTION:
URL:https://big-cypress.com/event/bingo-in-the-den-6/2026-10-17/
LOCATION:The Den – Bar & Lounge\, 1 Bass Pro Dr\, Memphis\, TN\, 38105\, United States
END:VEVENT
BEGIN:VEVENT
DTSTART;TZID=America/Chicago:20261017T190000
DTEND;TZID=America/Chicago:20261017T210000
DTSTAMP:20260422T050420
CREATED:20260101T174100Z
LAST-MODIFIED:20260101T174100Z
UID:10003704-1792263600-1792270800@big-cypress.com
SUMMARY:Family Movie Night
DESCRIPTION:
URL:https://big-cypress.com/event/family-movie-night-5/2026-10-17/
LOCATION:Adventure Center at Big Cypress Lodge\, 1 Bass Pro Dr\, Memphis\, TN\, 38105\, United States
END:VEVENT
BEGIN:VEVENT
DTSTART;TZID=America/Chicago:20261023T180000
DTEND;TZID=America/Chicago:20261023T220000
DTSTAMP:20260422T050420
CREATED:20260101T193438Z
LAST-MODIFIED:20260310T183429Z
UID:10004206-1792778400-1792792800@big-cypress.com
SUMMARY:Adventure Center
DESCRIPTION:Join the fun at the Adventure Center on the third floor\, open Thursday to Sunday from 6:00 PM to 10:00 PM! Get ready for a hands-on experience with activities like grab-and-go crafts and a complimentary coloring station. \n*Prices vary per activity
URL:https://big-cypress.com/event/adventure-center-2/2026-10-23/
LOCATION:Adventure Center at Big Cypress Lodge\, 1 Bass Pro Dr\, Memphis\, TN\, 38105\, United States
ATTACH;FMTTYPE=image/jpeg:https://big-cypress.com/wp-content/uploads/2026/01/Web-JPG-2025_BigCypress_ActivitiesAmenities_ActivityCenter-7.jpg
END:VEVENT
BEGIN:VEVENT
DTSTART;TZID=America/Chicago:20261023T190000
DTEND;TZID=America/Chicago:20261023T210000
DTSTAMP:20260422T050420
CREATED:20260101T174100Z
LAST-MODIFIED:20260101T174100Z
UID:10003705-1792782000-1792789200@big-cypress.com
SUMMARY:Family Movie Night
DESCRIPTION:
URL:https://big-cypress.com/event/family-movie-night-5/2026-10-23/
LOCATION:Adventure Center at Big Cypress Lodge\, 1 Bass Pro Dr\, Memphis\, TN\, 38105\, United States
END:VEVENT
BEGIN:VEVENT
DTSTART;TZID=America/Chicago:20261024T180000
DTEND;TZID=America/Chicago:20261024T220000
DTSTAMP:20260422T050420
CREATED:20260101T193438Z
LAST-MODIFIED:20260310T183429Z
UID:10004207-1792864800-1792879200@big-cypress.com
SUMMARY:Adventure Center
DESCRIPTION:Join the fun at the Adventure Center on the third floor\, open Thursday to Sunday from 6:00 PM to 10:00 PM! Get ready for a hands-on experience with activities like grab-and-go crafts and a complimentary coloring station. \n*Prices vary per activity
URL:https://big-cypress.com/event/adventure-center-2/2026-10-24/
LOCATION:Adventure Center at Big Cypress Lodge\, 1 Bass Pro Dr\, Memphis\, TN\, 38105\, United States
ATTACH;FMTTYPE=image/jpeg:https://big-cypress.com/wp-content/uploads/2026/01/Web-JPG-2025_BigCypress_ActivitiesAmenities_ActivityCenter-7.jpg
END:VEVENT
BEGIN:VEVENT
DTSTART;TZID=America/Chicago:20261024T190000
DTEND;TZID=America/Chicago:20261024T200000
DTSTAMP:20260422T050420
CREATED:20260101T175041Z
LAST-MODIFIED:20260210T213613Z
UID:10004018-1792868400-1792872000@big-cypress.com
SUMMARY:Bingo in the Den
DESCRIPTION:
URL:https://big-cypress.com/event/bingo-in-the-den-6/2026-10-24/
LOCATION:The Den – Bar & Lounge\, 1 Bass Pro Dr\, Memphis\, TN\, 38105\, United States
END:VEVENT
BEGIN:VEVENT
DTSTART;TZID=America/Chicago:20261024T190000
DTEND;TZID=America/Chicago:20261024T210000
DTSTAMP:20260422T050420
CREATED:20260101T174100Z
LAST-MODIFIED:20260101T174100Z
UID:10003706-1792868400-1792875600@big-cypress.com
SUMMARY:Family Movie Night
DESCRIPTION:
URL:https://big-cypress.com/event/family-movie-night-5/2026-10-24/
LOCATION:Adventure Center at Big Cypress Lodge\, 1 Bass Pro Dr\, Memphis\, TN\, 38105\, United States
END:VEVENT
BEGIN:VEVENT
DTSTART;TZID=America/Chicago:20261030T180000
DTEND;TZID=America/Chicago:20261030T220000
DTSTAMP:20260422T050420
CREATED:20260101T193438Z
LAST-MODIFIED:20260310T183429Z
UID:10004208-1793383200-1793397600@big-cypress.com
SUMMARY:Adventure Center
DESCRIPTION:Join the fun at the Adventure Center on the third floor\, open Thursday to Sunday from 6:00 PM to 10:00 PM! Get ready for a hands-on experience with activities like grab-and-go crafts and a complimentary coloring station. \n*Prices vary per activity
URL:https://big-cypress.com/event/adventure-center-2/2026-10-30/
LOCATION:Adventure Center at Big Cypress Lodge\, 1 Bass Pro Dr\, Memphis\, TN\, 38105\, United States
ATTACH;FMTTYPE=image/jpeg:https://big-cypress.com/wp-content/uploads/2026/01/Web-JPG-2025_BigCypress_ActivitiesAmenities_ActivityCenter-7.jpg
END:VEVENT
BEGIN:VEVENT
DTSTART;TZID=America/Chicago:20261030T190000
DTEND;TZID=America/Chicago:20261030T210000
DTSTAMP:20260422T050420
CREATED:20260101T174100Z
LAST-MODIFIED:20260101T174100Z
UID:10003707-1793386800-1793394000@big-cypress.com
SUMMARY:Family Movie Night
DESCRIPTION:
URL:https://big-cypress.com/event/family-movie-night-5/2026-10-30/
LOCATION:Adventure Center at Big Cypress Lodge\, 1 Bass Pro Dr\, Memphis\, TN\, 38105\, United States
END:VEVENT
BEGIN:VEVENT
DTSTART;TZID=America/Chicago:20261031T180000
DTEND;TZID=America/Chicago:20261031T220000
DTSTAMP:20260422T050420
CREATED:20260101T193438Z
LAST-MODIFIED:20260310T183429Z
UID:10004209-1793469600-1793484000@big-cypress.com
SUMMARY:Adventure Center
DESCRIPTION:Join the fun at the Adventure Center on the third floor\, open Thursday to Sunday from 6:00 PM to 10:00 PM! Get ready for a hands-on experience with activities like grab-and-go crafts and a complimentary coloring station. \n*Prices vary per activity
URL:https://big-cypress.com/event/adventure-center-2/2026-10-31/
LOCATION:Adventure Center at Big Cypress Lodge\, 1 Bass Pro Dr\, Memphis\, TN\, 38105\, United States
ATTACH;FMTTYPE=image/jpeg:https://big-cypress.com/wp-content/uploads/2026/01/Web-JPG-2025_BigCypress_ActivitiesAmenities_ActivityCenter-7.jpg
END:VEVENT
BEGIN:VEVENT
DTSTART;TZID=America/Chicago:20261031T190000
DTEND;TZID=America/Chicago:20261031T200000
DTSTAMP:20260422T050420
CREATED:20260101T175041Z
LAST-MODIFIED:20260210T213613Z
UID:10004019-1793473200-1793476800@big-cypress.com
SUMMARY:Bingo in the Den
DESCRIPTION:
URL:https://big-cypress.com/event/bingo-in-the-den-6/2026-10-31/
LOCATION:The Den – Bar & Lounge\, 1 Bass Pro Dr\, Memphis\, TN\, 38105\, United States
END:VEVENT
BEGIN:VEVENT
DTSTART;TZID=America/Chicago:20261031T190000
DTEND;TZID=America/Chicago:20261031T210000
DTSTAMP:20260422T050420
CREATED:20260101T174100Z
LAST-MODIFIED:20260101T174100Z
UID:10003708-1793473200-1793480400@big-cypress.com
SUMMARY:Family Movie Night
DESCRIPTION:
URL:https://big-cypress.com/event/family-movie-night-5/2026-10-31/
LOCATION:Adventure Center at Big Cypress Lodge\, 1 Bass Pro Dr\, Memphis\, TN\, 38105\, United States
END:VEVENT
BEGIN:VEVENT
DTSTART;TZID=America/Chicago:20261106T180000
DTEND;TZID=America/Chicago:20261106T220000
DTSTAMP:20260422T050420
CREATED:20260101T193438Z
LAST-MODIFIED:20260310T183429Z
UID:10004210-1793988000-1794002400@big-cypress.com
SUMMARY:Adventure Center
DESCRIPTION:Join the fun at the Adventure Center on the third floor\, open Thursday to Sunday from 6:00 PM to 10:00 PM! Get ready for a hands-on experience with activities like grab-and-go crafts and a complimentary coloring station. \n*Prices vary per activity
URL:https://big-cypress.com/event/adventure-center-2/2026-11-06/
LOCATION:Adventure Center at Big Cypress Lodge\, 1 Bass Pro Dr\, Memphis\, TN\, 38105\, United States
ATTACH;FMTTYPE=image/jpeg:https://big-cypress.com/wp-content/uploads/2026/01/Web-JPG-2025_BigCypress_ActivitiesAmenities_ActivityCenter-7.jpg
END:VEVENT
BEGIN:VEVENT
DTSTART;TZID=America/Chicago:20261106T190000
DTEND;TZID=America/Chicago:20261106T210000
DTSTAMP:20260422T050420
CREATED:20260101T174100Z
LAST-MODIFIED:20260101T174100Z
UID:10003709-1793991600-1793998800@big-cypress.com
SUMMARY:Family Movie Night
DESCRIPTION:
URL:https://big-cypress.com/event/family-movie-night-5/2026-11-06/
LOCATION:Adventure Center at Big Cypress Lodge\, 1 Bass Pro Dr\, Memphis\, TN\, 38105\, United States
END:VEVENT
BEGIN:VEVENT
DTSTART;TZID=America/Chicago:20261107T180000
DTEND;TZID=America/Chicago:20261107T220000
DTSTAMP:20260422T050420
CREATED:20260101T193438Z
LAST-MODIFIED:20260310T183429Z
UID:10004211-1794074400-1794088800@big-cypress.com
SUMMARY:Adventure Center
DESCRIPTION:Join the fun at the Adventure Center on the third floor\, open Thursday to Sunday from 6:00 PM to 10:00 PM! Get ready for a hands-on experience with activities like grab-and-go crafts and a complimentary coloring station. \n*Prices vary per activity
URL:https://big-cypress.com/event/adventure-center-2/2026-11-07/
LOCATION:Adventure Center at Big Cypress Lodge\, 1 Bass Pro Dr\, Memphis\, TN\, 38105\, United States
ATTACH;FMTTYPE=image/jpeg:https://big-cypress.com/wp-content/uploads/2026/01/Web-JPG-2025_BigCypress_ActivitiesAmenities_ActivityCenter-7.jpg
END:VEVENT
BEGIN:VEVENT
DTSTART;TZID=America/Chicago:20261107T190000
DTEND;TZID=America/Chicago:20261107T200000
DTSTAMP:20260422T050420
CREATED:20260101T175041Z
LAST-MODIFIED:20260210T213613Z
UID:10004020-1794078000-1794081600@big-cypress.com
SUMMARY:Bingo in the Den
DESCRIPTION:
URL:https://big-cypress.com/event/bingo-in-the-den-6/2026-11-07/
LOCATION:The Den – Bar & Lounge\, 1 Bass Pro Dr\, Memphis\, TN\, 38105\, United States
END:VEVENT
BEGIN:VEVENT
DTSTART;TZID=America/Chicago:20261107T190000
DTEND;TZID=America/Chicago:20261107T210000
DTSTAMP:20260422T050420
CREATED:20260101T174100Z
LAST-MODIFIED:20260101T174100Z
UID:10003710-1794078000-1794085200@big-cypress.com
SUMMARY:Family Movie Night
DESCRIPTION:
URL:https://big-cypress.com/event/family-movie-night-5/2026-11-07/
LOCATION:Adventure Center at Big Cypress Lodge\, 1 Bass Pro Dr\, Memphis\, TN\, 38105\, United States
END:VEVENT
BEGIN:VEVENT
DTSTART;TZID=America/Chicago:20261113T180000
DTEND;TZID=America/Chicago:20261113T220000
DTSTAMP:20260422T050420
CREATED:20260101T193438Z
LAST-MODIFIED:20260310T183429Z
UID:10004212-1794592800-1794607200@big-cypress.com
SUMMARY:Adventure Center
DESCRIPTION:Join the fun at the Adventure Center on the third floor\, open Thursday to Sunday from 6:00 PM to 10:00 PM! Get ready for a hands-on experience with activities like grab-and-go crafts and a complimentary coloring station. \n*Prices vary per activity
URL:https://big-cypress.com/event/adventure-center-2/2026-11-13/
LOCATION:Adventure Center at Big Cypress Lodge\, 1 Bass Pro Dr\, Memphis\, TN\, 38105\, United States
ATTACH;FMTTYPE=image/jpeg:https://big-cypress.com/wp-content/uploads/2026/01/Web-JPG-2025_BigCypress_ActivitiesAmenities_ActivityCenter-7.jpg
END:VEVENT
BEGIN:VEVENT
DTSTART;TZID=America/Chicago:20261113T190000
DTEND;TZID=America/Chicago:20261113T210000
DTSTAMP:20260422T050420
CREATED:20260101T174100Z
LAST-MODIFIED:20260101T174100Z
UID:10003711-1794596400-1794603600@big-cypress.com
SUMMARY:Family Movie Night
DESCRIPTION:
URL:https://big-cypress.com/event/family-movie-night-5/2026-11-13/
LOCATION:Adventure Center at Big Cypress Lodge\, 1 Bass Pro Dr\, Memphis\, TN\, 38105\, United States
END:VEVENT
BEGIN:VEVENT
DTSTART;TZID=America/Chicago:20261114T180000
DTEND;TZID=America/Chicago:20261114T220000
DTSTAMP:20260422T050420
CREATED:20260101T193438Z
LAST-MODIFIED:20260310T183429Z
UID:10004213-1794679200-1794693600@big-cypress.com
SUMMARY:Adventure Center
DESCRIPTION:Join the fun at the Adventure Center on the third floor\, open Thursday to Sunday from 6:00 PM to 10:00 PM! Get ready for a hands-on experience with activities like grab-and-go crafts and a complimentary coloring station. \n*Prices vary per activity
URL:https://big-cypress.com/event/adventure-center-2/2026-11-14/
LOCATION:Adventure Center at Big Cypress Lodge\, 1 Bass Pro Dr\, Memphis\, TN\, 38105\, United States
ATTACH;FMTTYPE=image/jpeg:https://big-cypress.com/wp-content/uploads/2026/01/Web-JPG-2025_BigCypress_ActivitiesAmenities_ActivityCenter-7.jpg
END:VEVENT
BEGIN:VEVENT
DTSTART;TZID=America/Chicago:20261114T190000
DTEND;TZID=America/Chicago:20261114T200000
DTSTAMP:20260422T050420
CREATED:20260101T175041Z
LAST-MODIFIED:20260210T213613Z
UID:10004021-1794682800-1794686400@big-cypress.com
SUMMARY:Bingo in the Den
DESCRIPTION:
URL:https://big-cypress.com/event/bingo-in-the-den-6/2026-11-14/
LOCATION:The Den – Bar & Lounge\, 1 Bass Pro Dr\, Memphis\, TN\, 38105\, United States
END:VEVENT
BEGIN:VEVENT
DTSTART;TZID=America/Chicago:20261114T190000
DTEND;TZID=America/Chicago:20261114T210000
DTSTAMP:20260422T050420
CREATED:20260101T174100Z
LAST-MODIFIED:20260101T174100Z
UID:10003712-1794682800-1794690000@big-cypress.com
SUMMARY:Family Movie Night
DESCRIPTION:
URL:https://big-cypress.com/event/family-movie-night-5/2026-11-14/
LOCATION:Adventure Center at Big Cypress Lodge\, 1 Bass Pro Dr\, Memphis\, TN\, 38105\, United States
END:VEVENT
BEGIN:VEVENT
DTSTART;TZID=America/Chicago:20261120T180000
DTEND;TZID=America/Chicago:20261120T220000
DTSTAMP:20260422T050420
CREATED:20260101T193438Z
LAST-MODIFIED:20260310T183429Z
UID:10004214-1795197600-1795212000@big-cypress.com
SUMMARY:Adventure Center
DESCRIPTION:Join the fun at the Adventure Center on the third floor\, open Thursday to Sunday from 6:00 PM to 10:00 PM! Get ready for a hands-on experience with activities like grab-and-go crafts and a complimentary coloring station. \n*Prices vary per activity
URL:https://big-cypress.com/event/adventure-center-2/2026-11-20/
LOCATION:Adventure Center at Big Cypress Lodge\, 1 Bass Pro Dr\, Memphis\, TN\, 38105\, United States
ATTACH;FMTTYPE=image/jpeg:https://big-cypress.com/wp-content/uploads/2026/01/Web-JPG-2025_BigCypress_ActivitiesAmenities_ActivityCenter-7.jpg
END:VEVENT
BEGIN:VEVENT
DTSTART;TZID=America/Chicago:20261120T190000
DTEND;TZID=America/Chicago:20261120T210000
DTSTAMP:20260422T050420
CREATED:20260101T174100Z
LAST-MODIFIED:20260101T174100Z
UID:10003713-1795201200-1795208400@big-cypress.com
SUMMARY:Family Movie Night
DESCRIPTION:
URL:https://big-cypress.com/event/family-movie-night-5/2026-11-20/
LOCATION:Adventure Center at Big Cypress Lodge\, 1 Bass Pro Dr\, Memphis\, TN\, 38105\, United States
END:VEVENT
BEGIN:VEVENT
DTSTART;TZID=America/Chicago:20261121T180000
DTEND;TZID=America/Chicago:20261121T220000
DTSTAMP:20260422T050420
CREATED:20260101T193438Z
LAST-MODIFIED:20260310T183429Z
UID:10004215-1795284000-1795298400@big-cypress.com
SUMMARY:Adventure Center
DESCRIPTION:Join the fun at the Adventure Center on the third floor\, open Thursday to Sunday from 6:00 PM to 10:00 PM! Get ready for a hands-on experience with activities like grab-and-go crafts and a complimentary coloring station. \n*Prices vary per activity
URL:https://big-cypress.com/event/adventure-center-2/2026-11-21/
LOCATION:Adventure Center at Big Cypress Lodge\, 1 Bass Pro Dr\, Memphis\, TN\, 38105\, United States
ATTACH;FMTTYPE=image/jpeg:https://big-cypress.com/wp-content/uploads/2026/01/Web-JPG-2025_BigCypress_ActivitiesAmenities_ActivityCenter-7.jpg
END:VEVENT
BEGIN:VEVENT
DTSTART;TZID=America/Chicago:20261121T190000
DTEND;TZID=America/Chicago:20261121T200000
DTSTAMP:20260422T050420
CREATED:20260101T175041Z
LAST-MODIFIED:20260210T213613Z
UID:10004022-1795287600-1795291200@big-cypress.com
SUMMARY:Bingo in the Den
DESCRIPTION:
URL:https://big-cypress.com/event/bingo-in-the-den-6/2026-11-21/
LOCATION:The Den – Bar & Lounge\, 1 Bass Pro Dr\, Memphis\, TN\, 38105\, United States
END:VEVENT
BEGIN:VEVENT
DTSTART;TZID=America/Chicago:20261121T190000
DTEND;TZID=America/Chicago:20261121T210000
DTSTAMP:20260422T050420
CREATED:20260101T174100Z
LAST-MODIFIED:20260101T174100Z
UID:10003714-1795287600-1795294800@big-cypress.com
SUMMARY:Family Movie Night
DESCRIPTION:
URL:https://big-cypress.com/event/family-movie-night-5/2026-11-21/
LOCATION:Adventure Center at Big Cypress Lodge\, 1 Bass Pro Dr\, Memphis\, TN\, 38105\, United States
END:VEVENT
BEGIN:VEVENT
DTSTART;TZID=America/Chicago:20261127T180000
DTEND;TZID=America/Chicago:20261127T220000
DTSTAMP:20260422T050420
CREATED:20260101T193438Z
LAST-MODIFIED:20260310T183429Z
UID:10004216-1795802400-1795816800@big-cypress.com
SUMMARY:Adventure Center
DESCRIPTION:Join the fun at the Adventure Center on the third floor\, open Thursday to Sunday from 6:00 PM to 10:00 PM! Get ready for a hands-on experience with activities like grab-and-go crafts and a complimentary coloring station. \n*Prices vary per activity
URL:https://big-cypress.com/event/adventure-center-2/2026-11-27/
LOCATION:Adventure Center at Big Cypress Lodge\, 1 Bass Pro Dr\, Memphis\, TN\, 38105\, United States
ATTACH;FMTTYPE=image/jpeg:https://big-cypress.com/wp-content/uploads/2026/01/Web-JPG-2025_BigCypress_ActivitiesAmenities_ActivityCenter-7.jpg
END:VEVENT
BEGIN:VEVENT
DTSTART;TZID=America/Chicago:20261127T190000
DTEND;TZID=America/Chicago:20261127T210000
DTSTAMP:20260422T050420
CREATED:20260101T174100Z
LAST-MODIFIED:20260101T174100Z
UID:10003715-1795806000-1795813200@big-cypress.com
SUMMARY:Family Movie Night
DESCRIPTION:
URL:https://big-cypress.com/event/family-movie-night-5/2026-11-27/
LOCATION:Adventure Center at Big Cypress Lodge\, 1 Bass Pro Dr\, Memphis\, TN\, 38105\, United States
END:VEVENT
BEGIN:VEVENT
DTSTART;TZID=America/Chicago:20261128T180000
DTEND;TZID=America/Chicago:20261128T220000
DTSTAMP:20260422T050420
CREATED:20260101T193438Z
LAST-MODIFIED:20260310T183429Z
UID:10004217-1795888800-1795903200@big-cypress.com
SUMMARY:Adventure Center
DESCRIPTION:Join the fun at the Adventure Center on the third floor\, open Thursday to Sunday from 6:00 PM to 10:00 PM! Get ready for a hands-on experience with activities like grab-and-go crafts and a complimentary coloring station. \n*Prices vary per activity
URL:https://big-cypress.com/event/adventure-center-2/2026-11-28/
LOCATION:Adventure Center at Big Cypress Lodge\, 1 Bass Pro Dr\, Memphis\, TN\, 38105\, United States
ATTACH;FMTTYPE=image/jpeg:https://big-cypress.com/wp-content/uploads/2026/01/Web-JPG-2025_BigCypress_ActivitiesAmenities_ActivityCenter-7.jpg
END:VEVENT
END:VCALENDAR