BEGIN:VCALENDAR
VERSION:2.0
PRODID:-//Big Cypress Lodge - ECPv6.15.18//NONSGML v1.0//EN
CALSCALE:GREGORIAN
METHOD:PUBLISH
X-WR-CALNAME:Big Cypress Lodge
X-ORIGINAL-URL:https://big-cypress.com
X-WR-CALDESC:Events for Big Cypress Lodge
REFRESH-INTERVAL;VALUE=DURATION:PT1H
X-Robots-Tag:noindex
X-PUBLISHED-TTL:PT1H
BEGIN:VTIMEZONE
TZID:America/Chicago
BEGIN:DAYLIGHT
TZOFFSETFROM:-0600
TZOFFSETTO:-0500
TZNAME:CDT
DTSTART:20240310T080000
END:DAYLIGHT
BEGIN:STANDARD
TZOFFSETFROM:-0500
TZOFFSETTO:-0600
TZNAME:CST
DTSTART:20241103T070000
END:STANDARD
BEGIN:DAYLIGHT
TZOFFSETFROM:-0600
TZOFFSETTO:-0500
TZNAME:CDT
DTSTART:20250309T080000
END:DAYLIGHT
BEGIN:STANDARD
TZOFFSETFROM:-0500
TZOFFSETTO:-0600
TZNAME:CST
DTSTART:20251102T070000
END:STANDARD
BEGIN:DAYLIGHT
TZOFFSETFROM:-0600
TZOFFSETTO:-0500
TZNAME:CDT
DTSTART:20260308T080000
END:DAYLIGHT
BEGIN:STANDARD
TZOFFSETFROM:-0500
TZOFFSETTO:-0600
TZNAME:CST
DTSTART:20261101T070000
END:STANDARD
BEGIN:DAYLIGHT
TZOFFSETFROM:-0600
TZOFFSETTO:-0500
TZNAME:CDT
DTSTART:20270314T080000
END:DAYLIGHT
BEGIN:STANDARD
TZOFFSETFROM:-0500
TZOFFSETTO:-0600
TZNAME:CST
DTSTART:20271107T070000
END:STANDARD
END:VTIMEZONE
BEGIN:VEVENT
DTSTART;TZID=America/Chicago:20251228T140000
DTEND;TZID=America/Chicago:20251228T143000
DTSTAMP:20260421T002155
CREATED:20250109T195741Z
LAST-MODIFIED:20251024T182219Z
UID:10003157-1766930400-1766932200@big-cypress.com
SUMMARY:Fish Feeding
DESCRIPTION:Centered inside Bass Pro Shops\, the aquarium houses several species of native Tennessee fish. Stop by daily at 2:00 PM to enjoy a live fish feedings by our Bass Pro Shops staff.
URL:https://big-cypress.com/event/fish-feeding/2025-12-28/
LOCATION:Bass Pro Shops\, 1 Bass Pro Dr\, Memphis\, TN\, 38105\, United States
CATEGORIES:Bass Pro Shops Pyramid
ATTACH;FMTTYPE=image/png:https://big-cypress.com/wp-content/uploads/2025/01/Fish-Feeding-Aquarium-2025.png
END:VEVENT
BEGIN:VEVENT
DTSTART;TZID=America/Chicago:20251228T180000
DTEND;TZID=America/Chicago:20251228T220000
DTSTAMP:20260421T002155
CREATED:20250919T171653Z
LAST-MODIFIED:20251024T184805Z
UID:10003512-1766944800-1766959200@big-cypress.com
SUMMARY:Holiday Adventure Center
DESCRIPTION:Join the holiday fun at the Adventure Center on the third floor\, open Thursday to Sunday from 6:00 PM to 10:00 PM! Get ready to shop unique holiday gifts\, from festive ornaments to puzzles featuring the Bass Pro Shops Pyramid and more. \nPlus\, don’t miss the grab-and-go holiday crafts for a hands-on seasonal experience. You can also write letters to Santa while you’re there! Friendly elves will be on hand to help you find the perfect gifts and make this holiday season one to remember. \n*Prices vary per activity. Letters to Santa are complimentary. 
URL:https://big-cypress.com/event/holiday-adventure-center-2/2025-12-28/
LOCATION:Adventure Center at Big Cypress Lodge\, 1 Bass Pro Dr\, Memphis\, TN\, 38105\, United States
CATEGORIES:Holiday Activities
ATTACH;FMTTYPE=image/jpeg:https://big-cypress.com/wp-content/uploads/2024/10/2024_BigCypressLodge_Holidays_Christmas_AdventureCenter_0000100001-scaled.jpg
END:VEVENT
BEGIN:VEVENT
DTSTART;TZID=America/Chicago:20251228T190000
DTEND;TZID=America/Chicago:20251228T200000
DTSTAMP:20260421T002155
CREATED:20250923T213431Z
LAST-MODIFIED:20251024T184718Z
UID:10003545-1766948400-1766952000@big-cypress.com
SUMMARY:Story Time with an Elf
DESCRIPTION:Join us on the third floor in the Adventure Center for Story Time with an Elf! Gather around as our festive friend reads enchanting Christmas story\, The Night Before Christmas. Popcorn will be provided and a variety of beverages will be available for purchase. \nThis event is complimentary and only available for Big Cypress Lodge guests. Parents are required to accompany children.
URL:https://big-cypress.com/event/story-time-with-an-elf-2/2025-12-28/
LOCATION:Adventure Center at Big Cypress Lodge\, 1 Bass Pro Dr\, Memphis\, TN\, 38105\, United States
ATTACH;FMTTYPE=image/jpeg:https://big-cypress.com/wp-content/uploads/2019/08/Elf-Readings-in-the-Lobby.jpg
END:VEVENT
BEGIN:VEVENT
DTSTART;TZID=America/Chicago:20251229T140000
DTEND;TZID=America/Chicago:20251229T143000
DTSTAMP:20260421T002155
CREATED:20250109T195741Z
LAST-MODIFIED:20251024T182219Z
UID:10003158-1767016800-1767018600@big-cypress.com
SUMMARY:Fish Feeding
DESCRIPTION:Centered inside Bass Pro Shops\, the aquarium houses several species of native Tennessee fish. Stop by daily at 2:00 PM to enjoy a live fish feedings by our Bass Pro Shops staff.
URL:https://big-cypress.com/event/fish-feeding/2025-12-29/
LOCATION:Bass Pro Shops\, 1 Bass Pro Dr\, Memphis\, TN\, 38105\, United States
CATEGORIES:Bass Pro Shops Pyramid
ATTACH;FMTTYPE=image/png:https://big-cypress.com/wp-content/uploads/2025/01/Fish-Feeding-Aquarium-2025.png
END:VEVENT
BEGIN:VEVENT
DTSTART;TZID=America/Chicago:20251230T140000
DTEND;TZID=America/Chicago:20251230T143000
DTSTAMP:20260421T002155
CREATED:20250109T195741Z
LAST-MODIFIED:20251024T182219Z
UID:10003159-1767103200-1767105000@big-cypress.com
SUMMARY:Fish Feeding
DESCRIPTION:Centered inside Bass Pro Shops\, the aquarium houses several species of native Tennessee fish. Stop by daily at 2:00 PM to enjoy a live fish feedings by our Bass Pro Shops staff.
URL:https://big-cypress.com/event/fish-feeding/2025-12-30/
LOCATION:Bass Pro Shops\, 1 Bass Pro Dr\, Memphis\, TN\, 38105\, United States
CATEGORIES:Bass Pro Shops Pyramid
ATTACH;FMTTYPE=image/png:https://big-cypress.com/wp-content/uploads/2025/01/Fish-Feeding-Aquarium-2025.png
END:VEVENT
BEGIN:VEVENT
DTSTART;TZID=America/Chicago:20251230T190000
DTEND;TZID=America/Chicago:20251230T220000
DTSTAMP:20260421T002155
CREATED:20251230T224821Z
LAST-MODIFIED:20260127T221357Z
UID:10003550-1767121200-1767132000@big-cypress.com
SUMMARY:Memphis Grizzlies Home Game
DESCRIPTION:Join us to catch every Memphis Grizzlies game! Great energy\, big screens\, and all the action you love. Get tickets to watch them take on NBA’s best at FedExForum.
URL:https://big-cypress.com/event/memphis-grizzlies-home-game/2025-12-30/
LOCATION:FedEx Forum\, 191 Beale St.\, Memphis\, TN\, 38103\, United States
CATEGORIES:FedEx Forum,Grizzlies
ATTACH;FMTTYPE=image/webp:https://big-cypress.com/wp-content/uploads/2025/12/Grizz835-928f7d10d3.webp
END:VEVENT
BEGIN:VEVENT
DTSTART;TZID=America/Chicago:20251231T140000
DTEND;TZID=America/Chicago:20251231T143000
DTSTAMP:20260421T002155
CREATED:20250109T195741Z
LAST-MODIFIED:20251024T182219Z
UID:10003160-1767189600-1767191400@big-cypress.com
SUMMARY:Fish Feeding
DESCRIPTION:Centered inside Bass Pro Shops\, the aquarium houses several species of native Tennessee fish. Stop by daily at 2:00 PM to enjoy a live fish feedings by our Bass Pro Shops staff.
URL:https://big-cypress.com/event/fish-feeding/2025-12-31/
LOCATION:Bass Pro Shops\, 1 Bass Pro Dr\, Memphis\, TN\, 38105\, United States
CATEGORIES:Bass Pro Shops Pyramid
ATTACH;FMTTYPE=image/png:https://big-cypress.com/wp-content/uploads/2025/01/Fish-Feeding-Aquarium-2025.png
END:VEVENT
BEGIN:VEVENT
DTSTART;TZID=America/Chicago:20251231T170000
DTEND;TZID=America/Chicago:20260101T000000
DTSTAMP:20260421T002155
CREATED:20251215T220740Z
LAST-MODIFIED:20251219T153731Z
UID:10003549-1767200400-1767225600@big-cypress.com
SUMMARY:New Year's Eve on Beale Street
DESCRIPTION:Big Cypress Lodge is just minutes from the New Year’s Eve excitement on Beale Street. This iconic street is alive with energy—bar-hopping\, karaoke\, and late-night dancing are the norm. Music fills the air as blues\, rockabilly\, and soul stream from clubs\, while sidewalk stars honor Memphis legends.
URL:https://big-cypress.com/event/new-years-eve-on-beale-street/
LOCATION:Beale Street\, Beale St\, Memphis\, 38103\, United States
ATTACH;FMTTYPE=image/webp:https://big-cypress.com/wp-content/uploads/2025/12/hrc-nye16-bonus-image-1-e1765836190510.webp
END:VEVENT
BEGIN:VEVENT
DTSTART;TZID=America/Chicago:20260106T190000
DTEND;TZID=America/Chicago:20260106T220000
DTSTAMP:20260421T002155
CREATED:20251230T224821Z
LAST-MODIFIED:20260127T221357Z
UID:10003551-1767726000-1767736800@big-cypress.com
SUMMARY:Memphis Grizzlies Home Game
DESCRIPTION:Join us to catch every Memphis Grizzlies game! Great energy\, big screens\, and all the action you love. Get tickets to watch them take on NBA’s best at FedExForum.
URL:https://big-cypress.com/event/memphis-grizzlies-home-game/2026-01-06/
LOCATION:FedEx Forum\, 191 Beale St.\, Memphis\, TN\, 38103\, United States
CATEGORIES:FedEx Forum,Grizzlies
ATTACH;FMTTYPE=image/webp:https://big-cypress.com/wp-content/uploads/2025/12/Grizz835-928f7d10d3.webp
END:VEVENT
BEGIN:VEVENT
DTSTART;TZID=America/Chicago:20260107T190000
DTEND;TZID=America/Chicago:20260107T220000
DTSTAMP:20260421T002155
CREATED:20251230T224821Z
LAST-MODIFIED:20260127T221357Z
UID:10003552-1767812400-1767823200@big-cypress.com
SUMMARY:Memphis Grizzlies Home Game
DESCRIPTION:Join us to catch every Memphis Grizzlies game! Great energy\, big screens\, and all the action you love. Get tickets to watch them take on NBA’s best at FedExForum.
URL:https://big-cypress.com/event/memphis-grizzlies-home-game/2026-01-07/
LOCATION:FedEx Forum\, 191 Beale St.\, Memphis\, TN\, 38103\, United States
CATEGORIES:FedEx Forum,Grizzlies
ATTACH;FMTTYPE=image/webp:https://big-cypress.com/wp-content/uploads/2025/12/Grizz835-928f7d10d3.webp
END:VEVENT
BEGIN:VEVENT
DTSTART;TZID=America/Chicago:20260108T180000
DTEND;TZID=America/Chicago:20260108T220000
DTSTAMP:20260421T002155
CREATED:20260101T193438Z
LAST-MODIFIED:20260310T183429Z
UID:10003764-1767895200-1767909600@big-cypress.com
SUMMARY:Adventure Center
DESCRIPTION:Join the fun at the Adventure Center on the third floor\, open Thursday to Sunday from 6:00 PM to 10:00 PM! Get ready for a hands-on experience with activities like grab-and-go crafts and a complimentary coloring station. \n*Prices vary per activity
URL:https://big-cypress.com/event/adventure-center-2/2026-01-08/
LOCATION:Adventure Center at Big Cypress Lodge\, 1 Bass Pro Dr\, Memphis\, TN\, 38105\, United States
ATTACH;FMTTYPE=image/jpeg:https://big-cypress.com/wp-content/uploads/2026/01/Web-JPG-2025_BigCypress_ActivitiesAmenities_ActivityCenter-7.jpg
END:VEVENT
BEGIN:VEVENT
DTSTART;TZID=America/Chicago:20260109T180000
DTEND;TZID=America/Chicago:20260109T220000
DTSTAMP:20260421T002155
CREATED:20260101T193438Z
LAST-MODIFIED:20260310T183429Z
UID:10003765-1767981600-1767996000@big-cypress.com
SUMMARY:Adventure Center
DESCRIPTION:Join the fun at the Adventure Center on the third floor\, open Thursday to Sunday from 6:00 PM to 10:00 PM! Get ready for a hands-on experience with activities like grab-and-go crafts and a complimentary coloring station. \n*Prices vary per activity
URL:https://big-cypress.com/event/adventure-center-2/2026-01-09/
LOCATION:Adventure Center at Big Cypress Lodge\, 1 Bass Pro Dr\, Memphis\, TN\, 38105\, United States
ATTACH;FMTTYPE=image/jpeg:https://big-cypress.com/wp-content/uploads/2026/01/Web-JPG-2025_BigCypress_ActivitiesAmenities_ActivityCenter-7.jpg
END:VEVENT
BEGIN:VEVENT
DTSTART;TZID=America/Chicago:20260109T190000
DTEND;TZID=America/Chicago:20260109T210000
DTSTAMP:20260421T002155
CREATED:20260101T174100Z
LAST-MODIFIED:20260101T174100Z
UID:10003623-1767985200-1767992400@big-cypress.com
SUMMARY:Family Movie Night
DESCRIPTION:
URL:https://big-cypress.com/event/family-movie-night-5/2026-01-09/
LOCATION:Adventure Center at Big Cypress Lodge\, 1 Bass Pro Dr\, Memphis\, TN\, 38105\, United States
END:VEVENT
BEGIN:VEVENT
DTSTART;TZID=America/Chicago:20260109T190000
DTEND;TZID=America/Chicago:20260109T220000
DTSTAMP:20260421T002155
CREATED:20251230T224821Z
LAST-MODIFIED:20260127T221357Z
UID:10003553-1767985200-1767996000@big-cypress.com
SUMMARY:Memphis Grizzlies Home Game
DESCRIPTION:Join us to catch every Memphis Grizzlies game! Great energy\, big screens\, and all the action you love. Get tickets to watch them take on NBA’s best at FedExForum.
URL:https://big-cypress.com/event/memphis-grizzlies-home-game/2026-01-09/
LOCATION:FedEx Forum\, 191 Beale St.\, Memphis\, TN\, 38103\, United States
CATEGORIES:FedEx Forum,Grizzlies
ATTACH;FMTTYPE=image/webp:https://big-cypress.com/wp-content/uploads/2025/12/Grizz835-928f7d10d3.webp
END:VEVENT
BEGIN:VEVENT
DTSTART;TZID=America/Chicago:20260110T180000
DTEND;TZID=America/Chicago:20260110T220000
DTSTAMP:20260421T002155
CREATED:20260101T193438Z
LAST-MODIFIED:20260310T183429Z
UID:10003766-1768068000-1768082400@big-cypress.com
SUMMARY:Adventure Center
DESCRIPTION:Join the fun at the Adventure Center on the third floor\, open Thursday to Sunday from 6:00 PM to 10:00 PM! Get ready for a hands-on experience with activities like grab-and-go crafts and a complimentary coloring station. \n*Prices vary per activity
URL:https://big-cypress.com/event/adventure-center-2/2026-01-10/
LOCATION:Adventure Center at Big Cypress Lodge\, 1 Bass Pro Dr\, Memphis\, TN\, 38105\, United States
ATTACH;FMTTYPE=image/jpeg:https://big-cypress.com/wp-content/uploads/2026/01/Web-JPG-2025_BigCypress_ActivitiesAmenities_ActivityCenter-7.jpg
END:VEVENT
BEGIN:VEVENT
DTSTART;TZID=America/Chicago:20260110T190000
DTEND;TZID=America/Chicago:20260110T200000
DTSTAMP:20260421T002155
CREATED:20260101T175041Z
LAST-MODIFIED:20260210T213613Z
UID:10003977-1768071600-1768075200@big-cypress.com
SUMMARY:Bingo in the Den
DESCRIPTION:
URL:https://big-cypress.com/event/bingo-in-the-den-6/2026-01-10/
LOCATION:The Den – Bar & Lounge\, 1 Bass Pro Dr\, Memphis\, TN\, 38105\, United States
END:VEVENT
BEGIN:VEVENT
DTSTART;TZID=America/Chicago:20260110T190000
DTEND;TZID=America/Chicago:20260110T210000
DTSTAMP:20260421T002155
CREATED:20260101T174100Z
LAST-MODIFIED:20260101T174100Z
UID:10003624-1768071600-1768078800@big-cypress.com
SUMMARY:Family Movie Night
DESCRIPTION:
URL:https://big-cypress.com/event/family-movie-night-5/2026-01-10/
LOCATION:Adventure Center at Big Cypress Lodge\, 1 Bass Pro Dr\, Memphis\, TN\, 38105\, United States
END:VEVENT
BEGIN:VEVENT
DTSTART;TZID=America/Chicago:20260111T143000
DTEND;TZID=America/Chicago:20260111T173000
DTSTAMP:20260421T002155
CREATED:20251230T224821Z
LAST-MODIFIED:20260127T221357Z
UID:10003554-1768141800-1768152600@big-cypress.com
SUMMARY:Memphis Grizzlies Home Game
DESCRIPTION:Join us to catch every Memphis Grizzlies game! Great energy\, big screens\, and all the action you love. Get tickets to watch them take on NBA’s best at FedExForum.
URL:https://big-cypress.com/event/memphis-grizzlies-home-game/2026-01-11/
LOCATION:FedEx Forum\, 191 Beale St.\, Memphis\, TN\, 38103\, United States
CATEGORIES:FedEx Forum,Grizzlies
ATTACH;FMTTYPE=image/webp:https://big-cypress.com/wp-content/uploads/2025/12/Grizz835-928f7d10d3.webp
END:VEVENT
BEGIN:VEVENT
DTSTART;TZID=America/Chicago:20260116T180000
DTEND;TZID=America/Chicago:20260116T220000
DTSTAMP:20260421T002155
CREATED:20260101T193438Z
LAST-MODIFIED:20260310T183429Z
UID:10003768-1768586400-1768600800@big-cypress.com
SUMMARY:Adventure Center
DESCRIPTION:Join the fun at the Adventure Center on the third floor\, open Thursday to Sunday from 6:00 PM to 10:00 PM! Get ready for a hands-on experience with activities like grab-and-go crafts and a complimentary coloring station. \n*Prices vary per activity
URL:https://big-cypress.com/event/adventure-center-2/2026-01-16/
LOCATION:Adventure Center at Big Cypress Lodge\, 1 Bass Pro Dr\, Memphis\, TN\, 38105\, United States
ATTACH;FMTTYPE=image/jpeg:https://big-cypress.com/wp-content/uploads/2026/01/Web-JPG-2025_BigCypress_ActivitiesAmenities_ActivityCenter-7.jpg
END:VEVENT
BEGIN:VEVENT
DTSTART;TZID=America/Chicago:20260116T190000
DTEND;TZID=America/Chicago:20260116T210000
DTSTAMP:20260421T002155
CREATED:20260101T174100Z
LAST-MODIFIED:20260101T174100Z
UID:10003625-1768590000-1768597200@big-cypress.com
SUMMARY:Family Movie Night
DESCRIPTION:
URL:https://big-cypress.com/event/family-movie-night-5/2026-01-16/
LOCATION:Adventure Center at Big Cypress Lodge\, 1 Bass Pro Dr\, Memphis\, TN\, 38105\, United States
END:VEVENT
BEGIN:VEVENT
DTSTART;TZID=America/Chicago:20260117T180000
DTEND;TZID=America/Chicago:20260117T220000
DTSTAMP:20260421T002155
CREATED:20260101T193438Z
LAST-MODIFIED:20260310T183429Z
UID:10003769-1768672800-1768687200@big-cypress.com
SUMMARY:Adventure Center
DESCRIPTION:Join the fun at the Adventure Center on the third floor\, open Thursday to Sunday from 6:00 PM to 10:00 PM! Get ready for a hands-on experience with activities like grab-and-go crafts and a complimentary coloring station. \n*Prices vary per activity
URL:https://big-cypress.com/event/adventure-center-2/2026-01-17/
LOCATION:Adventure Center at Big Cypress Lodge\, 1 Bass Pro Dr\, Memphis\, TN\, 38105\, United States
ATTACH;FMTTYPE=image/jpeg:https://big-cypress.com/wp-content/uploads/2026/01/Web-JPG-2025_BigCypress_ActivitiesAmenities_ActivityCenter-7.jpg
END:VEVENT
BEGIN:VEVENT
DTSTART;TZID=America/Chicago:20260117T190000
DTEND;TZID=America/Chicago:20260117T200000
DTSTAMP:20260421T002155
CREATED:20260101T175041Z
LAST-MODIFIED:20260210T213613Z
UID:10003978-1768676400-1768680000@big-cypress.com
SUMMARY:Bingo in the Den
DESCRIPTION:
URL:https://big-cypress.com/event/bingo-in-the-den-6/2026-01-17/
LOCATION:The Den – Bar & Lounge\, 1 Bass Pro Dr\, Memphis\, TN\, 38105\, United States
END:VEVENT
BEGIN:VEVENT
DTSTART;TZID=America/Chicago:20260117T190000
DTEND;TZID=America/Chicago:20260117T210000
DTSTAMP:20260421T002155
CREATED:20260101T174100Z
LAST-MODIFIED:20260101T174100Z
UID:10003626-1768676400-1768683600@big-cypress.com
SUMMARY:Family Movie Night
DESCRIPTION:
URL:https://big-cypress.com/event/family-movie-night-5/2026-01-17/
LOCATION:Adventure Center at Big Cypress Lodge\, 1 Bass Pro Dr\, Memphis\, TN\, 38105\, United States
END:VEVENT
BEGIN:VEVENT
DTSTART;TZID=America/Chicago:20260118T110000
DTEND;TZID=America/Chicago:20260118T130000
DTSTAMP:20260421T002155
CREATED:20251230T224821Z
LAST-MODIFIED:20260127T221357Z
UID:10003555-1768734000-1768741200@big-cypress.com
SUMMARY:Memphis Grizzlies Home Game
DESCRIPTION:Join us to catch every Memphis Grizzlies game! Great energy\, big screens\, and all the action you love. Get tickets to watch them take on NBA’s best at FedExForum.
URL:https://big-cypress.com/event/memphis-grizzlies-home-game/2026-01-18/
LOCATION:FedEx Forum\, 191 Beale St.\, Memphis\, TN\, 38103\, United States
CATEGORIES:FedEx Forum,Grizzlies
ATTACH;FMTTYPE=image/webp:https://big-cypress.com/wp-content/uploads/2025/12/Grizz835-928f7d10d3.webp
END:VEVENT
BEGIN:VEVENT
DTSTART;TZID=America/Chicago:20260121T190000
DTEND;TZID=America/Chicago:20260121T220000
DTSTAMP:20260421T002155
CREATED:20251230T224821Z
LAST-MODIFIED:20260127T221357Z
UID:10003556-1769022000-1769032800@big-cypress.com
SUMMARY:Memphis Grizzlies Home Game
DESCRIPTION:Join us to catch every Memphis Grizzlies game! Great energy\, big screens\, and all the action you love. Get tickets to watch them take on NBA’s best at FedExForum.
URL:https://big-cypress.com/event/memphis-grizzlies-home-game/2026-01-21/
LOCATION:FedEx Forum\, 191 Beale St.\, Memphis\, TN\, 38103\, United States
CATEGORIES:FedEx Forum,Grizzlies
ATTACH;FMTTYPE=image/webp:https://big-cypress.com/wp-content/uploads/2025/12/Grizz835-928f7d10d3.webp
END:VEVENT
BEGIN:VEVENT
DTSTART;TZID=America/Chicago:20260123T180000
DTEND;TZID=America/Chicago:20260123T220000
DTSTAMP:20260421T002155
CREATED:20260101T193438Z
LAST-MODIFIED:20260310T183429Z
UID:10003771-1769191200-1769205600@big-cypress.com
SUMMARY:Adventure Center
DESCRIPTION:Join the fun at the Adventure Center on the third floor\, open Thursday to Sunday from 6:00 PM to 10:00 PM! Get ready for a hands-on experience with activities like grab-and-go crafts and a complimentary coloring station. \n*Prices vary per activity
URL:https://big-cypress.com/event/adventure-center-2/2026-01-23/
LOCATION:Adventure Center at Big Cypress Lodge\, 1 Bass Pro Dr\, Memphis\, TN\, 38105\, United States
ATTACH;FMTTYPE=image/jpeg:https://big-cypress.com/wp-content/uploads/2026/01/Web-JPG-2025_BigCypress_ActivitiesAmenities_ActivityCenter-7.jpg
END:VEVENT
BEGIN:VEVENT
DTSTART;TZID=America/Chicago:20260123T190000
DTEND;TZID=America/Chicago:20260123T210000
DTSTAMP:20260421T002155
CREATED:20260101T174100Z
LAST-MODIFIED:20260101T174100Z
UID:10003627-1769194800-1769202000@big-cypress.com
SUMMARY:Family Movie Night
DESCRIPTION:
URL:https://big-cypress.com/event/family-movie-night-5/2026-01-23/
LOCATION:Adventure Center at Big Cypress Lodge\, 1 Bass Pro Dr\, Memphis\, TN\, 38105\, United States
END:VEVENT
BEGIN:VEVENT
DTSTART;TZID=America/Chicago:20260123T190000
DTEND;TZID=America/Chicago:20260123T220000
DTSTAMP:20260421T002155
CREATED:20251230T224821Z
LAST-MODIFIED:20260127T221357Z
UID:10003557-1769194800-1769205600@big-cypress.com
SUMMARY:Memphis Grizzlies Home Game
DESCRIPTION:Join us to catch every Memphis Grizzlies game! Great energy\, big screens\, and all the action you love. Get tickets to watch them take on NBA’s best at FedExForum.
URL:https://big-cypress.com/event/memphis-grizzlies-home-game/2026-01-23/
LOCATION:FedEx Forum\, 191 Beale St.\, Memphis\, TN\, 38103\, United States
CATEGORIES:FedEx Forum,Grizzlies
ATTACH;FMTTYPE=image/webp:https://big-cypress.com/wp-content/uploads/2025/12/Grizz835-928f7d10d3.webp
END:VEVENT
BEGIN:VEVENT
DTSTART;TZID=America/Chicago:20260124T180000
DTEND;TZID=America/Chicago:20260124T220000
DTSTAMP:20260421T002155
CREATED:20260101T193438Z
LAST-MODIFIED:20260310T183429Z
UID:10003772-1769277600-1769292000@big-cypress.com
SUMMARY:Adventure Center
DESCRIPTION:Join the fun at the Adventure Center on the third floor\, open Thursday to Sunday from 6:00 PM to 10:00 PM! Get ready for a hands-on experience with activities like grab-and-go crafts and a complimentary coloring station. \n*Prices vary per activity
URL:https://big-cypress.com/event/adventure-center-2/2026-01-24/
LOCATION:Adventure Center at Big Cypress Lodge\, 1 Bass Pro Dr\, Memphis\, TN\, 38105\, United States
ATTACH;FMTTYPE=image/jpeg:https://big-cypress.com/wp-content/uploads/2026/01/Web-JPG-2025_BigCypress_ActivitiesAmenities_ActivityCenter-7.jpg
END:VEVENT
BEGIN:VEVENT
DTSTART;TZID=America/Chicago:20260124T190000
DTEND;TZID=America/Chicago:20260124T200000
DTSTAMP:20260421T002155
CREATED:20260101T175041Z
LAST-MODIFIED:20260210T213613Z
UID:10003979-1769281200-1769284800@big-cypress.com
SUMMARY:Bingo in the Den
DESCRIPTION:
URL:https://big-cypress.com/event/bingo-in-the-den-6/2026-01-24/
LOCATION:The Den – Bar & Lounge\, 1 Bass Pro Dr\, Memphis\, TN\, 38105\, United States
END:VEVENT
END:VCALENDAR